BEGIN:VCALENDAR
VERSION:2.0
PRODID:-//Bike Walk Golden Isles - ECPv6.13.2.1//NONSGML v1.0//EN
CALSCALE:GREGORIAN
METHOD:PUBLISH
X-ORIGINAL-URL:https://bikewalkgoldenisles.org
X-WR-CALDESC:Events for Bike Walk Golden Isles
REFRESH-INTERVAL;VALUE=DURATION:PT1H
X-Robots-Tag:noindex
X-PUBLISHED-TTL:PT1H
BEGIN:VTIMEZONE
TZID:America/New_York
BEGIN:DAYLIGHT
TZOFFSETFROM:-0500
TZOFFSETTO:-0400
TZNAME:EDT
DTSTART:20250309T070000
END:DAYLIGHT
BEGIN:STANDARD
TZOFFSETFROM:-0400
TZOFFSETTO:-0500
TZNAME:EST
DTSTART:20251102T060000
END:STANDARD
END:VTIMEZONE
BEGIN:VEVENT
DTSTART;TZID=America/New_York:20250315T090000
DTEND;TZID=America/New_York:20250315T090000
DTSTAMP:20260425T090822
CREATED:20250305T151126Z
LAST-MODIFIED:20250312T140317Z
UID:3601-1742029200-1742029200@bikewalkgoldenisles.org
SUMMARY:Silver Bluff Brewing Saint Patricks Day 5k
DESCRIPTION:Join us for the fourth annual Silver Bluff Brewing St. Patricks Day 5k! \nRaceday: March 15th\, 2025 \nThere will be Live Music and Food all day long! \nCome dressed in your most festive St. Patricks Day attire! Prizes will be given to the 2 BEST DRESSED runners! \nAge group and Overall Awards will be handed out. \n5k course will take runners through historic Brunswick.  It is flat and fast so be ready to set a personal best! \nRace Packets can be picked up FRIDAY 3/14 FROM 5PM-7PM. at Silver Bluff. \nPacket Pick up on race day will start at 9am and close at 10:15am. \nSchedule of Events  \n10:30am- 5k Start \n11:45am – 5k awards \n12:15pm- 3:00pm – Irish Punk Band “Blood Sweat and Whisky” live in the beer garden \n1:30pm Mile \n4-7p – “Hot banana Coffee” live in the beer garden \n**Food Trucks will start serving at 11am!
URL:https://bikewalkgoldenisles.org/event/silver-bluff-brewing-saint-patricks-day-5k-beer-mile/
LOCATION:Silver Bluff Brewing Company\, 1325 Newcastle Street\, Brunswick\, GA\, 31520\, United States
CATEGORIES:Race,Run,Social Event
END:VEVENT
END:VCALENDAR