BEGIN:VCALENDAR
VERSION:2.0
PRODID:-//Bike Walk Golden Isles - ECPv6.13.2.1//NONSGML v1.0//EN
CALSCALE:GREGORIAN
METHOD:PUBLISH
X-ORIGINAL-URL:https://bikewalkgoldenisles.org
X-WR-CALDESC:Events for Bike Walk Golden Isles
REFRESH-INTERVAL;VALUE=DURATION:PT1H
X-Robots-Tag:noindex
X-PUBLISHED-TTL:PT1H
BEGIN:VTIMEZONE
TZID:America/New_York
BEGIN:DAYLIGHT
TZOFFSETFROM:-0500
TZOFFSETTO:-0400
TZNAME:EDT
DTSTART:20250309T070000
END:DAYLIGHT
BEGIN:STANDARD
TZOFFSETFROM:-0400
TZOFFSETTO:-0500
TZNAME:EST
DTSTART:20251102T060000
END:STANDARD
END:VTIMEZONE
BEGIN:VEVENT
DTSTART;TZID=America/New_York:20250308T080000
DTEND;TZID=America/New_York:20250308T080000
DTSTAMP:20260425T090725
CREATED:20250305T145636Z
LAST-MODIFIED:20250305T145636Z
UID:3591-1741420800-1741420800@bikewalkgoldenisles.org
SUMMARY:Okefenokee Swamp Run 1 mile or 10K
DESCRIPTION:NOTE: It is past shirt ordering\, so you are not able to select a shirt\, however\, there may be extra’s available on race day morning\, or after the race starts.  \nBACK TO IT”S TRADITIONAL DATE OF MARCH! \nJoin us for another cross-country adventure at the Okefenokee Swamp Park in Waycross for the 48th annual Swamp Run! This race is one of the second oldest continuous races in South Georgia.  A unique\, mostly-dirt course on forest service roads through the beautiful area around the park and Dixon Memorial Forest. The starting and finishing line is inside the Okefenokee Swamp Park and has indoor bathrooms! \nProceeds benefits the Okefenokee Swamp Park\, a 501c3 dedicated to the preservation of the swamp’s unique creatures\, history and natural beauty! \nEach participant gets a free pass to enter the Swamp Park on race day! This pass normally costs $18.\nA high-quality performance t-shirt. \nCheck it out: Okefenokee Swamp Park – Okefenokee Swamp Park & Adventures \nRace Times\nPacket Pickup at 8 am\n10k at 9 am\n1 Mile at 10:30 am \nPacket Pickup \nOkefenokee Swamp Annex building\n5700 Okefenokee Swamp Park Rd\n8 am Saturday \nAwards:\nTOP 1 in male and female finishers: OVERALL\, MASTERS (40+)\nTOP 3 in 10-year age groups (last Age Group is 70+) \nThe race is hosted by the Okefenokee Swamp Park and co-hosted by the Okefenokee Track & Cycling Club\, and the Golden Isles Track Club
URL:https://bikewalkgoldenisles.org/event/okefenokee-swamp-run-1-mile-or-10k/
LOCATION:Okefenokee Swamp Park\, 5700 Okefenokee Swamp Park Rd\, Waycross\, Georgia\, 31503-7925
CATEGORIES:Race,Run,Trail Event
END:VEVENT
BEGIN:VEVENT
DTSTART;TZID=America/New_York:20250308T090000
DTEND;TZID=America/New_York:20250308T090000
DTSTAMP:20260425T090725
CREATED:20250305T145057Z
LAST-MODIFIED:20250305T145110Z
UID:3588-1741424400-1741424400@bikewalkgoldenisles.org
SUMMARY:5K & Family Fun Day for Maternal Health Awareness
DESCRIPTION:Georgia is among the most dangerous states for pregnant women in the country. Thus\, it important to start the conversation with women on how to advocate for themselves in the doctors office and in the delivery room. This charity race’s goal is to raise funds for economically vulnerable women and their babies to receive high-quality maternal and infant care and to start the conversation about maternal health. We will begin the morning with a 5K race followed by a FREE family health day event. You do not have to attend the race in order to attend the free family health day event! Until then\, you can visit our FAQs page to get answers to the commonly asked questions! See you there!
URL:https://bikewalkgoldenisles.org/event/5k-family-fun-day-for-maternal-health-awareness/
LOCATION:Lake Mayer Park\, 1850 E. Montgomery Crossroads\, Savannah\, GA\, 31406\, United States
CATEGORIES:Race,Run
ORGANIZER;CN="ACOG":MAILTO:5kffdmha@gmail.com.
END:VEVENT
END:VCALENDAR