BEGIN:VCALENDAR
VERSION:2.0
PRODID:-//Bike Walk Golden Isles - ECPv6.13.2.1//NONSGML v1.0//EN
CALSCALE:GREGORIAN
METHOD:PUBLISH
X-WR-CALNAME:Bike Walk Golden Isles
X-ORIGINAL-URL:https://bikewalkgoldenisles.org
X-WR-CALDESC:Events for Bike Walk Golden Isles
REFRESH-INTERVAL;VALUE=DURATION:PT1H
X-Robots-Tag:noindex
X-PUBLISHED-TTL:PT1H
BEGIN:VTIMEZONE
TZID:America/New_York
BEGIN:DAYLIGHT
TZOFFSETFROM:-0500
TZOFFSETTO:-0400
TZNAME:EDT
DTSTART:20250309T070000
END:DAYLIGHT
BEGIN:STANDARD
TZOFFSETFROM:-0400
TZOFFSETTO:-0500
TZNAME:EST
DTSTART:20251102T060000
END:STANDARD
END:VTIMEZONE
BEGIN:VEVENT
DTSTART;TZID=America/New_York:20250215T060000
DTEND;TZID=America/New_York:20250215T060000
DTSTAMP:20260425T143611
CREATED:20250116T034121Z
LAST-MODIFIED:20250116T034245Z
UID:3283-1739599200-1739599200@bikewalkgoldenisles.org
SUMMARY:SGHS Foundation Bridge Run 5K
DESCRIPTION:The Southeast Georgia Health System Foundation Bridge Run has become a signature event for the Health System and the Golden Isles. Unique among bridge runs\, the races take place on the 7\,780-foot Sidney Lanier Bridge.
URL:https://bikewalkgoldenisles.org/event/sghs-foundation-bridge-run-5k/
LOCATION:Sidney Lanier Bridge\, Hwy 17 S & Conservation Way\, Brunswick\, GA\, 31522\, United States
CATEGORIES:Race,Run,Social Event
END:VEVENT
BEGIN:VEVENT
DTSTART;TZID=America/New_York:20250222T083000
DTEND;TZID=America/New_York:20250222T083000
DTSTAMP:20260425T143611
CREATED:20250115T213603Z
LAST-MODIFIED:20250205T045555Z
UID:3276-1740213000-1740213000@bikewalkgoldenisles.org
SUMMARY:CB Greer Shark Run 5k
DESCRIPTION:The 18th Annual Shark Run 5k and one mile run!  \nAll proceeds from this race will support CB Greer Elementary’s PTA. \nShark 5K:  8:30am \nJake McHargue One Mile Run:  9:45am \nAwards: 10:30am. \nAward categories:  Male and Female Overall\, Male and Female Masters\, Male and Female 10 and under\, 11-14\, 15-19\, 20-30\, 30-40\, 40-50\, 50-60\, 60+
URL:https://bikewalkgoldenisles.org/event/cb-greer-shark-run-5k/
LOCATION:CB Greer Elementary\, 695 Harry Driggers Blvd\, Brunswick\, GA\, 31525\, United States
END:VEVENT
END:VCALENDAR