BEGIN:VCALENDAR
VERSION:2.0
PRODID:-//Bike Walk Golden Isles - ECPv6.13.2.1//NONSGML v1.0//EN
CALSCALE:GREGORIAN
METHOD:PUBLISH
X-WR-CALNAME:Bike Walk Golden Isles
X-ORIGINAL-URL:https://bikewalkgoldenisles.org
X-WR-CALDESC:Events for Bike Walk Golden Isles
REFRESH-INTERVAL;VALUE=DURATION:PT1H
X-Robots-Tag:noindex
X-PUBLISHED-TTL:PT1H
BEGIN:VTIMEZONE
TZID:America/New_York
BEGIN:DAYLIGHT
TZOFFSETFROM:-0500
TZOFFSETTO:-0400
TZNAME:EDT
DTSTART:20250309T070000
END:DAYLIGHT
BEGIN:STANDARD
TZOFFSETFROM:-0400
TZOFFSETTO:-0500
TZNAME:EST
DTSTART:20251102T060000
END:STANDARD
END:VTIMEZONE
BEGIN:VEVENT
DTSTART;TZID=America/New_York:20250322T073000
DTEND;TZID=America/New_York:20250322T073000
DTSTAMP:20260425T084047
CREATED:20250305T151738Z
LAST-MODIFIED:20250305T151738Z
UID:3604-1742628600-1742628600@bikewalkgoldenisles.org
SUMMARY:CCGA and HCA Color Run 5K and Fun Run
DESCRIPTION:Get ready for an exciting day of fun and fitness at the 4th annual Color Run 5k and Fun Run on Saturday\, March 22\, 2025\, in Brunswick\, Glynn! This vibrant event promises a fantastic experience for the whole family while raising funds for student activities and supplies at Heritage Christian Academy. The Color Run features a 5k race kicking off at 8:00 a.m. and a lively Fun Run at 9:30 a.m.\, both starting behind the Student Activities Center on the picturesque campus of the College of Coastal Georgia. \nJoin in the colorful festivities and show your support for HCA students! Be sure to check in at 7:30 a.m. for a seamless race day experience. Awards will be presented at 10:00 a.m.\, celebrating the spirit and enthusiasm of all participants. Don’t forget\, packet pick-up is available on March 21st and race morning\, so secure your spot and get ready to dash through a rainbow of colors! Mark your calendars for this unforgettable event! \n  \n\n\nOrganiser’s Description\n\n\n\n\nThe Parent Teacher Organization in Partnership with Heritage Christian Academy (HCA) and The College of Coastal Georgia is back with the 4th annual Color Run! The family-friendly run is being organized to raise funds for student activities and supplies. The event will include the Color Run 5k and Fun Run! Awards will be held at 10:00 a.m. You won’t want to miss it! Come on out and help us support the students of HCA! \nWhen: March 22\, 2025 from 8:00 am-11:00 am (Check In is at 7:30 a.m.\, 5k is at 8:00a.m. & Fun Run is at 9:30 a.m..) \nWhere: Behind the Student Activities Center on the Campus of College of Coastal Georgia \nPacket Pick up will take place at HCA from on Friday March 21st from 2:15pm – 5:30pm. 4265 Norwich St. EXT\, Brunswick\, GA and race morning at the College of Coastal Georgia. \nT-shirt availability and size preferences cannot be guaranteed on registrations made after March 1st.
URL:https://bikewalkgoldenisles.org/event/ccga-and-hca-color-run-5k-and-fun-run/
LOCATION:Student Activities Center CCGA\, One College Drive\, Brunswick\, GA\, 31520
CATEGORIES:Fundraiser,Race,Run
END:VEVENT
END:VCALENDAR