BEGIN:VCALENDAR
VERSION:2.0
PRODID:-//Bike Walk Golden Isles - ECPv6.13.2.1//NONSGML v1.0//EN
CALSCALE:GREGORIAN
METHOD:PUBLISH
X-WR-CALNAME:Bike Walk Golden Isles
X-ORIGINAL-URL:https://bikewalkgoldenisles.org
X-WR-CALDESC:Events for Bike Walk Golden Isles
REFRESH-INTERVAL;VALUE=DURATION:PT1H
X-Robots-Tag:noindex
X-PUBLISHED-TTL:PT1H
BEGIN:VTIMEZONE
TZID:America/New_York
BEGIN:DAYLIGHT
TZOFFSETFROM:-0500
TZOFFSETTO:-0400
TZNAME:EDT
DTSTART:20240310T070000
END:DAYLIGHT
BEGIN:STANDARD
TZOFFSETFROM:-0400
TZOFFSETTO:-0500
TZNAME:EST
DTSTART:20241103T060000
END:STANDARD
END:VTIMEZONE
BEGIN:VEVENT
DTSTART;TZID=America/New_York:20241128T073000
DTEND;TZID=America/New_York:20241128T170000
DTSTAMP:20260425T065606
CREATED:20241108T155415Z
LAST-MODIFIED:20241108T155415Z
UID:3116-1732779000-1732813200@bikewalkgoldenisles.org
SUMMARY:Wobble B4U Gobble
DESCRIPTION:The Wobble B4U Gobble Thanksgiving Day 5K is a fun and festive race that is perfect for families\, friends\, and teams. The race will be held on Thanksgiving Day in Brunswick\, Georgia. The race starts and finishes on Norwich St between Gloucester and Monck St. The course is a flat and scenic route that winds through historic Brunswick.  All proceeds from the event benefit Glynn County Students with special needs. \nRace date:  Thursday\, November 28th\, 2024 \nWhere:  Start/finish/packet pick up on Norwich St between Gloucester and Monck St. \nRegister by November 15th to guarantee a tshirt.   \nRACE DAY and Packet PICK UP SAME DAY REGISTRATION:  FUN RUN $30   5k $45 \nTime:  7:30am Fun Run  8:00am 5k Start  \nAwards: ceremony as soon as the results are ready: \n\nAwards for overall/masters male and female winners\nAge group awards\nBest Costume
URL:https://bikewalkgoldenisles.org/event/wobble-b4u-gobble/
LOCATION:First United Methodist Church\, 1400 Norwich St.\, Brunswick\, GA\, 31520\, United States
CATEGORIES:Race
ORGANIZER;CN="Quintanar Running Company":MAILTO:coachq@qrunningco.com
END:VEVENT
END:VCALENDAR