BEGIN:VCALENDAR
VERSION:2.0
PRODID:-//Bike Walk Golden Isles - ECPv6.13.2.1//NONSGML v1.0//EN
CALSCALE:GREGORIAN
METHOD:PUBLISH
X-ORIGINAL-URL:https://bikewalkgoldenisles.org
X-WR-CALDESC:Events for Bike Walk Golden Isles
REFRESH-INTERVAL;VALUE=DURATION:PT1H
X-Robots-Tag:noindex
X-PUBLISHED-TTL:PT1H
BEGIN:VTIMEZONE
TZID:America/New_York
BEGIN:DAYLIGHT
TZOFFSETFROM:-0500
TZOFFSETTO:-0400
TZNAME:EDT
DTSTART:20250309T070000
END:DAYLIGHT
BEGIN:STANDARD
TZOFFSETFROM:-0400
TZOFFSETTO:-0500
TZNAME:EST
DTSTART:20251102T060000
END:STANDARD
END:VTIMEZONE
BEGIN:VEVENT
DTSTART;TZID=America/New_York:20250331T103000
DTEND;TZID=America/New_York:20250331T103000
DTSTAMP:20260425T104048
CREATED:20250306T194335Z
LAST-MODIFIED:20250319T211411Z
UID:3623-1743417000-1743417000@bikewalkgoldenisles.org
SUMMARY:BWGI and St. Marys Public Library Bike Rodeo
DESCRIPTION:Join us in Camden County at the Saint Marys Public Library for a FREE community biking event over Spring Break! \nWHAT: Bike Rodeo March 31st @ 10:30 AM \nWHERE: Saint Marys Public Library: 100 Herb Bauer Drive\, St. Marys\, GA 31558 \nWHO: Elementary and Middle School students on Spring Break\nRiders learn about bicycling safety and biking best practices\, and navigate through a variety of bike courses to increase rider confidence\, safety knowledge\, and handling skills. \n\nBring your own bike and helmet\nBWGI will provide helmets and bike lights for those who need it (children through adult sizing)\n\nMore details to come! \n  \nThis event is made possible through the partnership of St. Marys Public Library\, Camden Cycling Club\, and Go Georgia.
URL:https://bikewalkgoldenisles.org/event/st-marys-public-library-bike-rodeo/
LOCATION:St. Marys Public Library\, 100 Herb Bauer Dr\, Saint Marys\, GA\, 31558
CATEGORIES:Class,Education Program,Outreach,Ride,Social Event,Special Event,Volunteer Opportunity
END:VEVENT
END:VCALENDAR