BEGIN:VCALENDAR
VERSION:2.0
PRODID:-//Bike Walk Golden Isles - ECPv6.13.2.1//NONSGML v1.0//EN
CALSCALE:GREGORIAN
METHOD:PUBLISH
X-ORIGINAL-URL:https://bikewalkgoldenisles.org
X-WR-CALDESC:Events for Bike Walk Golden Isles
REFRESH-INTERVAL;VALUE=DURATION:PT1H
X-Robots-Tag:noindex
X-PUBLISHED-TTL:PT1H
BEGIN:VTIMEZONE
TZID:America/New_York
BEGIN:DAYLIGHT
TZOFFSETFROM:-0500
TZOFFSETTO:-0400
TZNAME:EDT
DTSTART:20250309T070000
END:DAYLIGHT
BEGIN:STANDARD
TZOFFSETFROM:-0400
TZOFFSETTO:-0500
TZNAME:EST
DTSTART:20251102T060000
END:STANDARD
END:VTIMEZONE
BEGIN:VEVENT
DTSTART;TZID=America/New_York:20250507T180000
DTEND;TZID=America/New_York:20250507T180000
DTSTAMP:20260424T093257
CREATED:20250429T153223Z
LAST-MODIFIED:20250505T163901Z
UID:3994-1746640800-1746640800@bikewalkgoldenisles.org
SUMMARY:Bike Month Proclamation by City Commission
DESCRIPTION:Bike Walk Golden Isles will attend the May 7th Commission Meeting as Brunswick City officially designates May as “Bike Month”! This designation comes at the request of BWGI. We are excited for this move forward in making our region a more bike-friendly community.
URL:https://bikewalkgoldenisles.org/event/bike-month-proclamation-by-city-commission/
LOCATION:Old City Hall\, 1229 Newcastle Street\, Brunswick\, GA\, 31520
CATEGORIES:Meeting,Special Event
END:VEVENT
BEGIN:VEVENT
DTSTART;TZID=America/New_York:20250513T093000
DTEND;TZID=America/New_York:20250513T093000
DTSTAMP:20260424T093257
CREATED:20250410T191120Z
LAST-MODIFIED:20250429T144912Z
UID:3791-1747128600-1747128600@bikewalkgoldenisles.org
SUMMARY:"Walk With A..." Community Advocate
DESCRIPTION:On the second Tuesday of each month\, Bike Walk Golden Isles hosts unique voices and community leaders to take us on a ~2-mile walk through Downtown Brunswick or SSI. \nThis month\, come along as A Better Glynn co-founder Shemeka Sorrells leads us through Downtown Brunswick and explores the vision ABG has for our area. \nShemeka uses her passion for advocacy\, unwavering commitment to social justice\, and avid pursuit of innovation to inspire & motivate individuals\, professionals\, teams\, and communities to create and implement equitable & sustainable solutions. Shemeka is a licensed mental health therapist (LPC) & certified Project Management Professional (PMP) specializing in leadership and curriculum development.
URL:https://bikewalkgoldenisles.org/event/wwa-community-advocate/
LOCATION:Wick 3.0\, 501 Gloucester St\, Brunswick\, GA\, 31520
CATEGORIES:Social Event,Walk,Walking,Walking Event
END:VEVENT
BEGIN:VEVENT
DTSTART;TZID=America/New_York:20250513T103000
DTEND;TZID=America/New_York:20250513T103000
DTSTAMP:20260424T093257
CREATED:20250321T154457Z
LAST-MODIFIED:20250429T144811Z
UID:3728-1747132200-1747132200@bikewalkgoldenisles.org
SUMMARY:Brunswick Library — BWK Walking Club - Brunswick
DESCRIPTION:Meets every Tuesday at 10:30 AM at the Gloucester entrance of the Brunswick Library for a 1 mile leisurely walk to Hanover Square and back. In the case of inclement weather at 9:30 AM\, the class will be canceled for the day.
URL:https://bikewalkgoldenisles.org/event/brunswick-library-bwk-walking-club-brunswick-9/
LOCATION:Marshes of Glynn Libraries\, 208 Gloucester St\, Brunswick\, GA\, 31520\, United States
CATEGORIES:Social Event,Walk,Walking,Walking Event
ORGANIZER;CN="Marshesof Glynn Libraries":MAILTO:dgraham@glynncounty-ga.gov
END:VEVENT
BEGIN:VEVENT
DTSTART;TZID=America/New_York:20250518T080000
DTEND;TZID=America/New_York:20250518T150000
DTSTAMP:20260424T093257
CREATED:20250428T133759Z
LAST-MODIFIED:20250428T135720Z
UID:2713-1747555200-1747580400@bikewalkgoldenisles.org
SUMMARY:St. Francis Xavier Crusaders 5K
DESCRIPTION:From the race registration page: \nSt. Francis Xavier Catholic School is hosting the annual Crusaders 5K and Fun Run. We are excited to encourage movement and promote health and fitness in the community. This event is for all levels of fitness. While the run/walk itself will be fun\, the 5K will be professionally timed\, with awards for each age group. The Crusaders Run will begin and end near the new St. Francis Xavier Catholic School in downtown Brunswick. All proceeds from the Crusaders Run will help support funding of a new parking lot. \nDate: May 18 \nTime:  5K start 7:30 A.M.    Fun Run start: 9 A.M. \nSt Francis Xavier Catholic School \n1129 Grant Street\, Brunswick\, GA 31520 \nONLINE REGISTRATION CLOSES ON MIDNIGHT MAY 16TH. \nYou can register on packet pick up and on race day. \nRace day registration begins at 6:15am:  5k $40   Fun Run $30 \nPACKET PICK UP \nIf you pre registered you can pick up your bib starting on Friday\, May 17th\, from 3:30pm-6:30pm in the gym at St Francis located at 1121 UNION ST. \nAnyone that would still like to register can do so on Friday or Saturday before the race.  Please note that the race will not be accepting cash or checks and instead will direct you to sign up via a QR code.  Shirts are not guaranteed for anyone registering at packet pick up or on race day. RACE DAY PACKET PICK UP WILL BEGIN AT 6:15AM AND CLOSE AT 7:15AM and be located at the new school on Howe St. between Grant and H St.
URL:https://bikewalkgoldenisles.org/event/crusaders-5k-2025/
LOCATION:St Francis Xavier Catholic School\, 1129 Grant Street\, Brunswick\, GA\, 31520\, United States
CATEGORIES:Race,Run,Walk
END:VEVENT
BEGIN:VEVENT
DTSTART;TZID=America/New_York:20250524T100000
DTEND;TZID=America/New_York:20250524T100000
DTSTAMP:20260424T093257
CREATED:20250428T135549Z
LAST-MODIFIED:20250429T144722Z
UID:3983-1748080800-1748080800@bikewalkgoldenisles.org
SUMMARY:BWGI BIKE MONTH - BRAG's "I Ride Beside Maud" Community Ride
DESCRIPTION:The Gullah/Geechee BRAG Dream Team invites all cyclists to their monthly “I Ride Beside Maud” Justice for Ahmaud Community Bike Ride.  \nThis month\, BWGI will be present distributing helmets and bike lights at the starting location prior to the ride. \nMeet at Howard Coffin Park in Brunswick\, May 24 at 10 a.m. for an all-levels group ride. \nFree and always a fun event! \n \n 
URL:https://bikewalkgoldenisles.org/event/brag-community-ride-bike-month/
LOCATION:Howard Coffin Park\, 1402 Sonny Miller Way\, Brunswick\, GA\, 31520\, United States
CATEGORIES:Recurring Ride,Ride,Social Event
END:VEVENT
END:VCALENDAR