BEGIN:VCALENDAR
VERSION:2.0
PRODID:-//Bike Walk Golden Isles - ECPv6.13.2.1//NONSGML v1.0//EN
CALSCALE:GREGORIAN
METHOD:PUBLISH
X-ORIGINAL-URL:https://bikewalkgoldenisles.org
X-WR-CALDESC:Events for Bike Walk Golden Isles
REFRESH-INTERVAL;VALUE=DURATION:PT1H
X-Robots-Tag:noindex
X-PUBLISHED-TTL:PT1H
BEGIN:VTIMEZONE
TZID:America/New_York
BEGIN:DAYLIGHT
TZOFFSETFROM:-0500
TZOFFSETTO:-0400
TZNAME:EDT
DTSTART:20240310T070000
END:DAYLIGHT
BEGIN:STANDARD
TZOFFSETFROM:-0400
TZOFFSETTO:-0500
TZNAME:EST
DTSTART:20241103T060000
END:STANDARD
END:VTIMEZONE
BEGIN:VEVENT
DTSTART;TZID=America/New_York:20241221T100000
DTEND;TZID=America/New_York:20241221T130000
DTSTAMP:20260425T065310
CREATED:20240214T175725Z
LAST-MODIFIED:20241205T140738Z
UID:2227-1734775200-1734786000@bikewalkgoldenisles.org
SUMMARY:BRAG's "I Ride Beside Maud" Community Ride
DESCRIPTION:The Gullah/Geechee BRAG Dream Team invites all cyclists to their monthly “I Ride Beside Maud” Justice for Ahmaud Community Bike Ride.  \nMeet at Howard Coffin Park in Brunswick\, December 21\, 10 a.m. for an all-levels group ride.  \nFree and always a fun event!
URL:https://bikewalkgoldenisles.org/event/brags-i-ride-beside-maud-community-ride/
LOCATION:Howard Coffin Park\, 1402 Sonny Miller Way\, Brunswick\, GA\, 31520\, United States
CATEGORIES:Recurring Ride
END:VEVENT
END:VCALENDAR