BEGIN:VCALENDAR
VERSION:2.0
PRODID:-//Bike Walk Golden Isles - ECPv6.13.2.1//NONSGML v1.0//EN
CALSCALE:GREGORIAN
METHOD:PUBLISH
X-ORIGINAL-URL:https://bikewalkgoldenisles.org
X-WR-CALDESC:Events for Bike Walk Golden Isles
REFRESH-INTERVAL;VALUE=DURATION:PT1H
X-Robots-Tag:noindex
X-PUBLISHED-TTL:PT1H
BEGIN:VTIMEZONE
TZID:America/New_York
BEGIN:DAYLIGHT
TZOFFSETFROM:-0500
TZOFFSETTO:-0400
TZNAME:EDT
DTSTART:20250309T070000
END:DAYLIGHT
BEGIN:STANDARD
TZOFFSETFROM:-0400
TZOFFSETTO:-0500
TZNAME:EST
DTSTART:20251102T060000
END:STANDARD
END:VTIMEZONE
BEGIN:VEVENT
DTSTART;TZID=America/New_York:20250823T100000
DTEND;TZID=America/New_York:20250823T100000
DTSTAMP:20260424T072843
CREATED:20250804T185142Z
LAST-MODIFIED:20250804T185329Z
UID:4562-1755943200-1755943200@bikewalkgoldenisles.org
SUMMARY:Gullah/Geeche Club "I Ride Beside Maud" Community Ride
DESCRIPTION:The Gullah/Geechee BRAG Dream Team invites all cyclists to their monthly “I Ride Beside Maud” Justice for Ahmaud remembrance ride. \nMeet at Howard Coffin Park in Brunswick\, August 23rd at 10 a.m. for an all-levels group ride. \nThis event is always free\, fun and informative!
URL:https://bikewalkgoldenisles.org/event/gullah-geechee-club-irbm-8-23/
LOCATION:Howard Coffin Park\, 1402 Sonny Miller Way\, Brunswick\, GA\, 31520\, United States
CATEGORIES:Recurring Ride,Ride,Social Event
END:VEVENT
END:VCALENDAR