BEGIN:VCALENDAR
VERSION:2.0
PRODID:-//Bike Walk Golden Isles - ECPv6.13.2.1//NONSGML v1.0//EN
CALSCALE:GREGORIAN
METHOD:PUBLISH
X-ORIGINAL-URL:https://bikewalkgoldenisles.org
X-WR-CALDESC:Events for Bike Walk Golden Isles
REFRESH-INTERVAL;VALUE=DURATION:PT1H
X-Robots-Tag:noindex
X-PUBLISHED-TTL:PT1H
BEGIN:VTIMEZONE
TZID:America/New_York
BEGIN:DAYLIGHT
TZOFFSETFROM:-0500
TZOFFSETTO:-0400
TZNAME:EDT
DTSTART:20240310T070000
END:DAYLIGHT
BEGIN:STANDARD
TZOFFSETFROM:-0400
TZOFFSETTO:-0500
TZNAME:EST
DTSTART:20241103T060000
END:STANDARD
END:VTIMEZONE
BEGIN:VEVENT
DTSTART;TZID=America/New_York:20241101T183000
DTEND;TZID=America/New_York:20241101T200000
DTSTAMP:20260425T103520
CREATED:20240910T193456Z
LAST-MODIFIED:20240910T193456Z
UID:2990-1730485800-1730491200@bikewalkgoldenisles.org
SUMMARY:Macon's Big Bike Ride
DESCRIPTION:Bike Walk Macon is thrilled to invite you to the inaugural Macon’s Big Bike Ride on Friday\, November 1\, 2024\, at Cherry St Plaza! This event is more than just a ride—it’s a powerful movement to advocate for safer\, more connected streets and to promote a healthier\, more vibrant community. Come for the kickoff party and registration at 5 p.m. The seven-mile ride through downtown Macon will start at 6:30 p.m. and conclude around 8.\n\nWhether you’re a biking pro or just getting started\, this 7-mile ride through Macon is for YOU.\nTickets are only $10 at bikewalkmacon.com/bigbikeride. Grab yours now and be part of something BIG! 
URL:https://bikewalkgoldenisles.org/event/macons-big-bike-ride/
LOCATION:Cherry Street Plaza\, 300 Cherry Street\, Macon\, GA\, 31201\, United States
CATEGORIES:Recurring Ride
ORGANIZER;CN="Bike Walk Macon":MAILTO:HELLO@BIKEWALKMACON.COM
END:VEVENT
END:VCALENDAR