BEGIN:VCALENDAR
VERSION:2.0
PRODID:-//Bike Walk Golden Isles - ECPv6.13.2.1//NONSGML v1.0//EN
CALSCALE:GREGORIAN
METHOD:PUBLISH
X-WR-CALNAME:Bike Walk Golden Isles
X-ORIGINAL-URL:https://bikewalkgoldenisles.org
X-WR-CALDESC:Events for Bike Walk Golden Isles
REFRESH-INTERVAL;VALUE=DURATION:PT1H
X-Robots-Tag:noindex
X-PUBLISHED-TTL:PT1H
BEGIN:VTIMEZONE
TZID:America/New_York
BEGIN:DAYLIGHT
TZOFFSETFROM:-0500
TZOFFSETTO:-0400
TZNAME:EDT
DTSTART:20260308T070000
END:DAYLIGHT
BEGIN:STANDARD
TZOFFSETFROM:-0400
TZOFFSETTO:-0500
TZNAME:EST
DTSTART:20261101T060000
END:STANDARD
END:VTIMEZONE
BEGIN:VEVENT
DTSTART;TZID=America/New_York:20260415T145000
DTEND;TZID=America/New_York:20260415T160000
DTSTAMP:20260423T155615
CREATED:20260406T134252Z
LAST-MODIFIED:20260407T153615Z
UID:5435-1776264600-1776268800@bikewalkgoldenisles.org
SUMMARY:"Walk (or bike) With A..." Tour Guide
DESCRIPTION:On Wednesday\, April 15th\, Road Scholars Linda Olsen and Fred Collins will share local SSI history during this walk and bike event starting at Saint Simons Island Public Library at 2:50 PM for a short introduction. The walk and ride will begin promptly at 3 PM. \nLinda Olsen will guide the walking portion of this event. \nTo participate in the bike ride\, attendees must provide their own bicycle and bike helmet (both required) to go on the 6-mile out-and-back bike ride with Fred Collins\, with a stop or two along the way to talk about local SSI history. \nThis casual walk-and-talk series allows Golden Isles residents and visitors to engage with interesting leaders and impactful voices in our community. Our walk leaders typically take a Q & A-style approach\, though occasionally provide a short-form lecture along the way. There is a pedestrian safety and Build-A-Better-Block element to this series: we make observations about accessibility along the route\, noting the areas in need of improvement and the areas the city or county has done well.
URL:https://bikewalkgoldenisles.org/event/walk-or-bike-with-a-tour-guide/
LOCATION:GA
CATEGORIES:One-Time Ride,Social Event,Tour,Walk,Walking,Walking Event
END:VEVENT
END:VCALENDAR