BEGIN:VCALENDAR
VERSION:2.0
PRODID:-//Bike Walk Golden Isles - ECPv6.13.2.1//NONSGML v1.0//EN
CALSCALE:GREGORIAN
METHOD:PUBLISH
X-ORIGINAL-URL:https://bikewalkgoldenisles.org
X-WR-CALDESC:Events for Bike Walk Golden Isles
REFRESH-INTERVAL;VALUE=DURATION:PT1H
X-Robots-Tag:noindex
X-PUBLISHED-TTL:PT1H
BEGIN:VTIMEZONE
TZID:America/New_York
BEGIN:DAYLIGHT
TZOFFSETFROM:-0500
TZOFFSETTO:-0400
TZNAME:EDT
DTSTART:20240310T070000
END:DAYLIGHT
BEGIN:STANDARD
TZOFFSETFROM:-0400
TZOFFSETTO:-0500
TZNAME:EST
DTSTART:20241103T060000
END:STANDARD
END:VTIMEZONE
BEGIN:VEVENT
DTSTART;TZID=America/New_York:20241207T080000
DTEND;TZID=America/New_York:20241207T170000
DTSTAMP:20260425T090834
CREATED:20241108T163148Z
LAST-MODIFIED:20241108T163148Z
UID:3127-1733558400-1733590800@bikewalkgoldenisles.org
SUMMARY:Girls on the Run Celebratory 5K
DESCRIPTION:Each season comes to an end with a celebratory 5K. This closing event gives program participants of all abilities a tangible sense of accomplishment. Crossing the finish line instills confidence through completion and is a joyful moment program participants always remember! Everyone in our program receives a commemorative medal to celebrate this incredible achievement. Click here to register or visit the Girls on the Run website to learn more.
URL:https://bikewalkgoldenisles.org/event/girls-on-the-run-celebratory-5k/
LOCATION:Silver Bluff Brewing Company\, 1325 Newcastle Street\, Brunswick\, GA\, 31520\, United States
CATEGORIES:Race
END:VEVENT
END:VCALENDAR