BEGIN:VCALENDAR
VERSION:2.0
PRODID:-//Bike Walk Golden Isles - ECPv6.13.2.1//NONSGML v1.0//EN
CALSCALE:GREGORIAN
METHOD:PUBLISH
X-WR-CALNAME:Bike Walk Golden Isles
X-ORIGINAL-URL:https://bikewalkgoldenisles.org
X-WR-CALDESC:Events for Bike Walk Golden Isles
REFRESH-INTERVAL;VALUE=DURATION:PT1H
X-Robots-Tag:noindex
X-PUBLISHED-TTL:PT1H
BEGIN:VTIMEZONE
TZID:America/New_York
BEGIN:DAYLIGHT
TZOFFSETFROM:-0500
TZOFFSETTO:-0400
TZNAME:EDT
DTSTART:20230312T070000
END:DAYLIGHT
BEGIN:STANDARD
TZOFFSETFROM:-0400
TZOFFSETTO:-0500
TZNAME:EST
DTSTART:20231105T060000
END:STANDARD
BEGIN:DAYLIGHT
TZOFFSETFROM:-0500
TZOFFSETTO:-0400
TZNAME:EDT
DTSTART:20240310T070000
END:DAYLIGHT
BEGIN:STANDARD
TZOFFSETFROM:-0400
TZOFFSETTO:-0500
TZNAME:EST
DTSTART:20241103T060000
END:STANDARD
END:VTIMEZONE
BEGIN:VEVENT
DTSTART;TZID=America/New_York:20240115T090000
DTEND;TZID=America/New_York:20240115T170000
DTSTAMP:20260424T150033
CREATED:20231101T183513Z
LAST-MODIFIED:20231101T183513Z
UID:2383-1705309200-1705338000@bikewalkgoldenisles.org
SUMMARY:The Heritage Race
DESCRIPTION:The Heritage 5K Race and Heritage Walk for the 5th year on a course that takes you past some of Brunswick’s most historic African American business neighborhoods. The event will be followed by a family-friendly festival featuring community vendors\, food and drink\, entertainment\, and children’s activities. As an added bonus\, the annual MLK Day Parade will be coming down G Street and making a turn on Albany (not on the race route)\, participants can watch the parade go by!   \nEVENT HIGHLIGHTS\nPre-race Pasta dinner ($10)\nGuided Historic Walk\nA flat and fast 5k route \nAge group awards for 5k race\nMLK Parade\nChipped Timed event\nRRCA Certified course\nVendors and Food trucks \nProceeds benefit the Brunswick African American Cultural Center (BAACC)\, we are getting close to opening and hopefully this race will put us over the goal line! \nSTART LOCATION AND START TIME \nBrunswick African American Cultural Center (BAACC)\n1621 Albany\, Brunswick GA \nMonday\, Jan 15\, 2024 (MLK Day) \n5K Race Start at 9:00 a.m. \nWALK Start at 9:15 a.m. \nPacket Pick up Saturday January 13\, 2024\, 3:00 – 6:00 p.m. at BAACC \nPre-Registration Pasta Dinner Saturday January 13\, 2024\, at BAACC\, $10 for Registered Runners \n5k Awards Ceremony 10:00 a.m. \nClick here to learn more and/or register.
URL:https://bikewalkgoldenisles.org/event/the-heritage-race/
LOCATION:Brunswick African American Cultural Center (BAACC)\, 1621 Albany\, Brunswick\, GA\, 31520\, United States
CATEGORIES:Race,Run,Walk
ATTACH;FMTTYPE=image/png:https://bikewalkgoldenisles.org/wp-content/uploads/2023/11/2024-01-15-heritage-race.png
END:VEVENT
BEGIN:VEVENT
DTSTART;VALUE=DATE:20231201
DTEND;VALUE=DATE:20231204
DTSTAMP:20260424T150033
CREATED:20231016T220218Z
LAST-MODIFIED:20231016T220218Z
UID:2276-1701388800-1701647999@bikewalkgoldenisles.org
SUMMARY:Key West Ride: Escape to the Keys
DESCRIPTION:From Earthbiking.org: \nJoin us for this bike weekend adventure through the Florida Keys! We meet at famous Robert Is Here Fruit Stand in Homestead\, FL (near Miami) and embark on a two-day ride down to Key West! Get your groove on and bring your friends as you won’t want to miss this ride. \nUse this link to learn more or this one to register.
URL:https://bikewalkgoldenisles.org/event/key-west-ride-escape-to-the-keys/
LOCATION:Robert Is Here Fruit Stand\, 19200 SW 344th St\, Homestead\, FL\, 33034\, United States
CATEGORIES:Recurring Ride
ATTACH;FMTTYPE=image/png:https://bikewalkgoldenisles.org/wp-content/uploads/2023/10/2023-12-01-key-west-ride.png
END:VEVENT
BEGIN:VEVENT
DTSTART;TZID=America/New_York:20231123T073000
DTEND;TZID=America/New_York:20231123T170000
DTSTAMP:20260424T150033
CREATED:20230924T215626Z
LAST-MODIFIED:20230924T220617Z
UID:2198-1700724600-1700758800@bikewalkgoldenisles.org
SUMMARY:Wobble B4U Gobble Thanksgiving Day 5K
DESCRIPTION:The Wobble B4U Gobble Thanksgiving Day 5K is a fun and festive race that is perfect for families\, friends\, and teams. The race will be held on Thanksgiving Day\, November 23\, 2023\, in Brunswick\, Georgia. The race starts and finishes on Norwich St between Gloucester and Monck St. The course is a flat and scenic route that winds through historic Brunswick.  All proceeds from the event benefit Glynn County Students with special needs. \nClick here to register or visit Q Running for more information.
URL:https://bikewalkgoldenisles.org/event/wobble-b4u-gobble-thanksgiving-day-5k/
LOCATION:St. Mark’s Square\, 1400 Norwich St.\, Brunswick\, GA\, 31520\, United States
CATEGORIES:Race,Run
ATTACH;FMTTYPE=image/jpeg:https://bikewalkgoldenisles.org/wp-content/uploads/2023/09/wb4ug.jpg
END:VEVENT
BEGIN:VEVENT
DTSTART;TZID=America/New_York:20231111T070000
DTEND;TZID=America/New_York:20231111T170000
DTSTAMP:20260424T150033
CREATED:20230623T214715Z
LAST-MODIFIED:20230623T214715Z
UID:2031-1699686000-1699722000@bikewalkgoldenisles.org
SUMMARY:Cruisin’ in the Country Bicycle Ride
DESCRIPTION:From Claxton-Evans Chamber of Commerce: \nThe Claxton-Evans County Chamber of Commerce is proud to sponsor the 27th Annual Cruisin’ in the Country Bicycle Ride\, Saturday\, November 11th\, 2023. \nThis year’s event will be headquartered at the Evans County Public Fishing Area\, 4757 Area Line Road\, Claxton\, Georgia. This beautiful 372- acre site is owned and operated by the Georgia Department of Natural Resources and features a campground with 22 campsites complete with electricity\, water\, picnic table\, fire ring and a comfort station with showers. Primitive campsites are also available. For camping information or to make a reservation\, log on tohttp://reservations.gooutdoorsgeorgia.com.
URL:https://bikewalkgoldenisles.org/event/cruisin-in-the-country-bicycle-ride/
LOCATION:Evans County PFA\, 4757 Area Line Rd\, Claxton\, GA\, 30417\, United States
END:VEVENT
BEGIN:VEVENT
DTSTART;TZID=America/New_York:20231029T100000
DTEND;TZID=America/New_York:20231029T140000
DTSTAMP:20260424T150033
CREATED:20231012T183203Z
LAST-MODIFIED:20231012T183203Z
UID:2237-1698573600-1698588000@bikewalkgoldenisles.org
SUMMARY:W.I.N. Holyween
DESCRIPTION:Bike Walk Golden Isles will host a table at W.I.N. Holyween\, a free community outreach event open to all on Sunday\, October 29\, 10 a.m.-2 p.m. at Inez Williams (Dixville) Park\, 1815 Prince St\, Brunswick. In addition to BWGI’s Halloween safety table\, there will be a costume contest\, food\, music\, and vendors. For more information\, contact worthitnation@gmail.com.
URL:https://bikewalkgoldenisles.org/event/w-i-n-holyween/
LOCATION:Inez Williams (Dixville) Park\, 1815 Prince Street\, Brunswick\, GA\, 31525\, United States
CATEGORIES:Social Event
ATTACH;FMTTYPE=image/png:https://bikewalkgoldenisles.org/wp-content/uploads/2023/10/win-holyween.png
END:VEVENT
BEGIN:VEVENT
DTSTART;TZID=America/New_York:20231021T080000
DTEND;TZID=America/New_York:20231021T170000
DTSTAMP:20260424T150033
CREATED:20231012T181523Z
LAST-MODIFIED:20231012T181523Z
UID:2233-1697875200-1697907600@bikewalkgoldenisles.org
SUMMARY:Repeater 5K Challenge
DESCRIPTION:Game Changers Running Store and the Golden Isles Track Club Presents the Repeater 5k Challenge on Saturday\, Oct. 21. The Challenge: Run as many 3-mile laps every 45 minutes as you can. If you complete all 12 laps\, that will be 36 miles. Run as many laps as you want! First lap starts at 8:00 a.m.\, end of last lap at 5 p.m. Laps begin and end at the Game Changers store in Red Fern Village. Proceeds benefit the Glynn Academy Cross Country Team. Click here to register.
URL:https://bikewalkgoldenisles.org/event/repeater-5k-challenge/
LOCATION:Game Changers\, 262 Redfern Village\, Saint Simons Island\, GA\, 31522\, United States
CATEGORIES:Run
END:VEVENT
BEGIN:VEVENT
DTSTART;TZID=America/New_York:20231018T170000
DTEND;TZID=America/New_York:20231018T200000
DTSTAMP:20260424T150033
CREATED:20230924T211637Z
LAST-MODIFIED:20231016T234626Z
UID:2177-1697648400-1697659200@bikewalkgoldenisles.org
SUMMARY:BWGI Fall Ride and Birthday Membership Celebration
DESCRIPTION:Join us at Gloucester and Reynolds Streets in downtown Brunswick with your bicycle and helmet at 5:00 pm on Wednesday\, October 18. We’ll head out on a family-friendly bicycle ride at 5:30 through downtown and the historic areas of Brunswick. \nThen\, at 6:30 p.m.\, join us back at the Wick 3.0 (501 Gloucester Street) for refreshments and a brief membership meeting and presentation showcasing Bike Walk Golden Isles’ success and plans for the future. We will provide secure indoor bike parking \nThe ride is completely free\, but registration is requested so we know how many to expect. Helmets are mandatory\, and bike lights are advised\, especially with the darkening fall skies. Register here. \nIn case of rain\, we will cancel the ride\, but please join us at 6:30 p.m. at the Wick 3.0 to celebrate BWGI’s birthday! Email bikewalkgoldenisles@gmail.com for more information. 
URL:https://bikewalkgoldenisles.org/event/bwgi-fall-ride-and-birthday-membership-celebration/
LOCATION:Wick 3.0\, 501 Gloucester St\, Brunswick\, GA\, 31520
CATEGORIES:One-Time Ride,Party,Social Event
ATTACH;FMTTYPE=image/png:https://bikewalkgoldenisles.org/wp-content/uploads/2023/10/2023-10-18-bwgi-birthday-party.png
END:VEVENT
BEGIN:VEVENT
DTSTART;TZID=America/New_York:20230901T170000
DTEND;TZID=America/New_York:20230901T200000
DTSTAMP:20260424T150033
CREATED:20230731T163153Z
LAST-MODIFIED:20230731T163153Z
UID:2136-1693587600-1693598400@bikewalkgoldenisles.org
SUMMARY:First Friday: September 2023
DESCRIPTION:BWGI will host a table at First Friday in downtown Brunswick on September 1.
URL:https://bikewalkgoldenisles.org/event/first-friday-september-2023/
LOCATION:Newcastle Street\, Brunswick\, GA\, 31525\, United States
CATEGORIES:Social Event
ATTACH;FMTTYPE=image/png:https://bikewalkgoldenisles.org/wp-content/uploads/2023/07/first-friday-1.png
END:VEVENT
BEGIN:VEVENT
DTSTART;TZID=America/New_York:20230804T170000
DTEND;TZID=America/New_York:20230804T200000
DTSTAMP:20260424T150033
CREATED:20230731T162556Z
LAST-MODIFIED:20230731T162556Z
UID:2131-1691168400-1691179200@bikewalkgoldenisles.org
SUMMARY:First Friday: August 2023
DESCRIPTION:BWGI will host a table at First Friday in downtown Brunswick on August 4.
URL:https://bikewalkgoldenisles.org/event/first-friday-august-2023/
LOCATION:Newcastle Street\, Brunswick\, GA\, 31525\, United States
CATEGORIES:Social Event
END:VEVENT
END:VCALENDAR