BEGIN:VCALENDAR
VERSION:2.0
PRODID:-//Bike Walk Golden Isles - ECPv6.13.2.1//NONSGML v1.0//EN
CALSCALE:GREGORIAN
METHOD:PUBLISH
X-WR-CALNAME:Bike Walk Golden Isles
X-ORIGINAL-URL:https://bikewalkgoldenisles.org
X-WR-CALDESC:Events for Bike Walk Golden Isles
REFRESH-INTERVAL;VALUE=DURATION:PT1H
X-Robots-Tag:noindex
X-PUBLISHED-TTL:PT1H
BEGIN:VTIMEZONE
TZID:America/New_York
BEGIN:DAYLIGHT
TZOFFSETFROM:-0500
TZOFFSETTO:-0400
TZNAME:EDT
DTSTART:20250309T070000
END:DAYLIGHT
BEGIN:STANDARD
TZOFFSETFROM:-0400
TZOFFSETTO:-0500
TZNAME:EST
DTSTART:20251102T060000
END:STANDARD
BEGIN:DAYLIGHT
TZOFFSETFROM:-0500
TZOFFSETTO:-0400
TZNAME:EDT
DTSTART:20260308T070000
END:DAYLIGHT
BEGIN:STANDARD
TZOFFSETFROM:-0400
TZOFFSETTO:-0500
TZNAME:EST
DTSTART:20261101T060000
END:STANDARD
BEGIN:DAYLIGHT
TZOFFSETFROM:-0500
TZOFFSETTO:-0400
TZNAME:EDT
DTSTART:20270314T070000
END:DAYLIGHT
BEGIN:STANDARD
TZOFFSETFROM:-0400
TZOFFSETTO:-0500
TZNAME:EST
DTSTART:20271107T060000
END:STANDARD
END:VTIMEZONE
BEGIN:VEVENT
DTSTART;TZID=America/New_York:20251207T163000
DTEND;TZID=America/New_York:20251207T163000
DTSTAMP:20260424T001242
CREATED:20251106T141805Z
LAST-MODIFIED:20251118T140203Z
UID:4812-1765125000-1765125000@bikewalkgoldenisles.org
SUMMARY:BWGI Holiday Lights Ride 2025
DESCRIPTION:Experience the magic of the holidays with a FREE family-friendly winter lights tour through Downtown and Historic Brunswick! \nBike Walk Golden Isles has partnered with the Brunswick Downtown Development Authority and the Gullah Geechee BRAG Dream Team to create an unforgettable experience this holiday season. Meet at the Brunswick Old City Hall (1229 Newcastle St.\, downtown Brunswick\, GA) at 4:30 PM to show proof of helmets\, perform bike checks\, and listen to a short safety talk before heading off on this light-filled ride. Ride will begin at sunset (approximately 5:25 PM). \nOur casual 5-mile journey will take us through the lights of Downtown and Historic Brunswick\, led by the BRAG Dream Team riders. After the ride\, join us for cookies and hot cocoa at Brunswick Old City Hall (1229 Newcastle St.\, downtown Brunswick)! \nHelmets and bike lights required (NO EXCEPTIONS!) — fitted and provided by BWGI at no cost if needed. Wear your reflective gear (and festive gear) for this spectacular event! \nWhile this ride is FREE\, all participants must be registered in advance\, and tickets are limited.  \n>> Registration Link << \nAll children under 14 must be accompanied by an adult. \n \nBike Walk Golden Isles is a Glynn County-based nonprofit working to make the Golden Isles safer and more accessible for those who cycle\, walk\, run and roll for transportation\, fun and fitness. Please consider donating so we can continue to offer great events to the community free of charge.
URL:https://bikewalkgoldenisles.org/event/bwgi-holiday-lights-ride-2025/
LOCATION:Old City Hall\, 1229 Newcastle Street\, Brunswick\, GA\, 31520
CATEGORIES:One-Time Ride,Ride,Social Event,Special Event,Tour
END:VEVENT
BEGIN:VEVENT
DTSTART;TZID=America/New_York:20251209T093000
DTEND;TZID=America/New_York:20251209T093000
DTSTAMP:20260424T001242
CREATED:20251114T184502Z
LAST-MODIFIED:20251114T184703Z
UID:4821-1765272600-1765272600@bikewalkgoldenisles.org
SUMMARY:"Walk With A..." Police Chief
DESCRIPTION:Join BWGI and Brunswick PD Police Chief Angela L. Smith for a walk in Downtown Brunswick Tuesday\, December 9th at 9:30 AM!  \nThis free walk-and-talk series facilitates interesting conversations with community leaders while we assess the route accessibility and safety for alternative modes of transportation. \nMeet in front of the Wick 3.0 (501 Gloucester St.) at the BWGI table. As always\, wear sturdy walking shoes\, bring water\, and dress appropriately for the weather conditions of the day.
URL:https://bikewalkgoldenisles.org/event/walk-with-a-police-chief/
LOCATION:Wick 3.0\, 501 Gloucester St\, Brunswick\, GA\, 31520
CATEGORIES:Social Event,Walk,Walking,Walking Event
END:VEVENT
BEGIN:VEVENT
DTSTART;TZID=America/New_York:20260131T080000
DTEND;TZID=America/New_York:20260131T080000
DTSTAMP:20260424T001242
CREATED:20260126T015926Z
LAST-MODIFIED:20260126T015926Z
UID:5205-1769846400-1769846400@bikewalkgoldenisles.org
SUMMARY:Kiwanis Rocking Stewbilee 5k
DESCRIPTION:From their website: \n\n\n\n\nA classic Brunswick 5k is returning! Join us for a flat and scenic run through downtown Brunswick on a USTAF certified course. \nAfter the race\, join in on a fun day of activities. Race registration includes a free entry into the Stewbilee\, an $8 value! \nPresented by the Golden Isles Track Club in partnership with the Kiwanis Club\, this event proudly benefits the Boys & Girls Club of Southeast Georgia. \nRegister by 1/16/2026 to guarantee a shirt! \nGet ready for the annual Brunswick Rockin’ Stewbilee at Mary Ross Waterfront Park. Each year\, cooking teams from near and far compete to see who has the best stew\, competing for the Peoples’ Choice and Judges’ Award. The day-long event features live music\, classic and antique car show\, and of course\, sampling of the Best Brunswick Stew in the nation. \nAwards: \nOverall Male & Female (Free pair shoes from Game Changers Running Company)\nMasters Male & Female (40+) (Free pair shoes from Game Changers Running Company)\nTop 3 Male and Female Runners in each age group.\nAge Groups: 12 and under\, 13-19\, 20-29\, 30-39\, 40-49\, 50-59\, 60-69\, 70-79\, 80+ \nFriday 1/30 Schedule\nPre-race day 5k Packet Pickup at Game Changers Running Company on St. Simons Island from 4-6 pm\n \nSaturday 1/31 Schedule:\nRace day 5k Packet Pickup\n7AM – 7:45 AM \n5k Race\n8 AM – 9:30 AM \n5k Race Awards\n9:30 AM \nCar Show\n11AM – 2PM \nArts & Crafts Vendors\n10AM – 2PM \nLive Music: Joe King\n10AM – 12PM \nLive Music: Dream Team\n12:15PM – 2:30PM \nBrunswick Rockin’ Stew Tasting\n11AM – 2PM
URL:https://bikewalkgoldenisles.org/event/kiwanis-rocking-stewbilee-5k/
LOCATION:Mary Ross Waterfront Park\, 10 F St\, Brunswick\, GA\, 31520\, United States
END:VEVENT
BEGIN:VEVENT
DTSTART;TZID=America/New_York:20260328T083000
DTEND;TZID=America/New_York:20260328T110000
DTSTAMP:20260424T001242
CREATED:20260325T201314Z
LAST-MODIFIED:20260325T201314Z
UID:5419-1774686600-1774695600@bikewalkgoldenisles.org
SUMMARY:SSLT x BWGI Walk the Frederica Greenway
DESCRIPTION:Join the St. Simons Land Trust and Bike Walk Golden Isles for a FREE\, fun\, and informative experience\, focused on Land Trust properties along the Frederica Greenway.\n\n\n\nThe enjoyable 1.5-mile journey from the Land Trust’s office to John Gilbert Nature Trail\, attendees will have the opportunity to learn about seven protected parcels of land\, including their history and environmental significance.\n\n\n\nSaturday\, March 28\n8:30am – 11am\n1810 Frederica Road (Land Trust Office)\n\n\n\nhttps://bit.ly/40UY4h8 to register to join!
URL:https://bikewalkgoldenisles.org/event/sslt-x-bwgi-walk-the-frederica-greenway/
LOCATION:Saint Simons Land Trust\, 1810 Frederica Rd\, Saint Simons Island\, GA\, 31522\, United States
CATEGORIES:Trail Event,Walk,Walking,Walking Event
ORGANIZER;CN="Saint Simons Land Trust":MAILTO:info@sslt.org
END:VEVENT
BEGIN:VEVENT
DTSTART;TZID=America/New_York:20260329T100000
DTEND;TZID=America/New_York:20260329T140000
DTSTAMP:20260424T001242
CREATED:20260120T134714Z
LAST-MODIFIED:20260120T134714Z
UID:5130-1774778400-1774792800@bikewalkgoldenisles.org
SUMMARY:W.I.N. CommUNITY Outreach Day
DESCRIPTION:Save the Date! \nWorth it Nation Ministries is holding their 5th Sunday CommUNITY Outreach Day on February 28th. \nDate: March 29 \nTime:10AM – 2PM \nWhere: Perry Park (1995 I Street\, Brunswick) \nWhat: Free family-friendly activities\, clothing giveaways\, book giveaways\, food\, music & dancing\, health screens\, and more!
URL:https://bikewalkgoldenisles.org/event/w-i-n-community-outreach-day-2/
LOCATION:Perry Park\, 601 Gloucester St\, Brunswick\, GA\, 31520
CATEGORIES:Outreach,Social Event,Special Event,Volunteer Opportunity
END:VEVENT
BEGIN:VEVENT
DTSTART;TZID=America/New_York:20260411T080000
DTEND;TZID=America/New_York:20260411T080000
DTSTAMP:20260424T001242
CREATED:20260123T214954Z
LAST-MODIFIED:20260123T215029Z
UID:5179-1775894400-1775894400@bikewalkgoldenisles.org
SUMMARY:BFF - Firehouse 5K
DESCRIPTION:From their website: \nThis 5k features a flat and fast course through historical downtown Brunswick. If you are looking to PR a 5k then this is the race. This 5k supports the Brunswick Fire Foundation\, ensuring that our local fire fighters are supported with all their health\, wellness and equipment needs. All participants will receive a newly designed shirt and commemorative challenge coin.  
URL:https://bikewalkgoldenisles.org/event/firehouse-5k/
LOCATION:Brunswick Fire Department Headquarters\, 1201 Gloucester Street\, Brunswick\, GA\, 31520\, United States
CATEGORIES:Fundraiser,Race
END:VEVENT
BEGIN:VEVENT
DTSTART;TZID=America/New_York:20260411T100000
DTEND;TZID=America/New_York:20260411T140000
DTSTAMP:20260424T001242
CREATED:20260326T193428Z
LAST-MODIFIED:20260407T153726Z
UID:5426-1775901600-1775916000@bikewalkgoldenisles.org
SUMMARY:MCFC x BWGI Bike Rodeo
DESCRIPTION:Bike Walk Golden Isles is bringing a bike rodeo to the McIntosh County Family Connection Spring into Health Fair on Saturday\, April 11th from 10 AM – 2 PM. \nBike rodeos teach essential bike safety and on-bike handling skills using proven strategies. \nThis event is gear for children and youth ages 4-12. BWGI recommends riders bring their own bike\, but will have a small selection on site. \nHelmets are required for this event. BWGI will provide free bike helmets with helmet safety education to any rider who needs this essential safety equipment thanks to funding from the GA Governor’s Office of Highway Safety (GOHS). 
URL:https://bikewalkgoldenisles.org/event/mcfc-x-bwgi-bike-rodeo/
LOCATION:McIntosh County Recreation Dept.\, 402 Pack Street\, Darien\, GA\, 31305\, United States
CATEGORIES:Education Program,Social Event,Special Event,Volunteer Opportunity
ORGANIZER;CN="McIntosh County Family Connection":MAILTO:mcintoshfamilyconnection@gmail.com
END:VEVENT
BEGIN:VEVENT
DTSTART;TZID=America/New_York:20260415T145000
DTEND;TZID=America/New_York:20260415T160000
DTSTAMP:20260424T001242
CREATED:20260406T134252Z
LAST-MODIFIED:20260407T153615Z
UID:5435-1776264600-1776268800@bikewalkgoldenisles.org
SUMMARY:"Walk (or bike) With A..." Tour Guide
DESCRIPTION:On Wednesday\, April 15th\, Road Scholars Linda Olsen and Fred Collins will share local SSI history during this walk and bike event starting at Saint Simons Island Public Library at 2:50 PM for a short introduction. The walk and ride will begin promptly at 3 PM. \nLinda Olsen will guide the walking portion of this event. \nTo participate in the bike ride\, attendees must provide their own bicycle and bike helmet (both required) to go on the 6-mile out-and-back bike ride with Fred Collins\, with a stop or two along the way to talk about local SSI history. \nThis casual walk-and-talk series allows Golden Isles residents and visitors to engage with interesting leaders and impactful voices in our community. Our walk leaders typically take a Q & A-style approach\, though occasionally provide a short-form lecture along the way. There is a pedestrian safety and Build-A-Better-Block element to this series: we make observations about accessibility along the route\, noting the areas in need of improvement and the areas the city or county has done well.
URL:https://bikewalkgoldenisles.org/event/walk-or-bike-with-a-tour-guide/
LOCATION:GA
CATEGORIES:One-Time Ride,Social Event,Tour,Walk,Walking,Walking Event
END:VEVENT
BEGIN:VEVENT
DTSTART;TZID=America/New_York:20260422T160000
DTEND;TZID=America/New_York:20260422T180000
DTSTAMP:20260424T001242
CREATED:20260407T154340Z
LAST-MODIFIED:20260407T154340Z
UID:5444-1776873600-1776880800@bikewalkgoldenisles.org
SUMMARY:COB GA Cities Week Bike Rodeo
DESCRIPTION:Bike Walk Golden Isles is partnering up with the City of Brunswick for a bike rodeo at Mary Ross Waterfront Park on Wednesday\, April 22nd from 4-6 PM as part of Georgia Cities Week! \nBike rodeos teach essential bike safety and on-bike handling skills using proven strategies. This event is geared for children and youth ages 3-12. BWGI recommends riders bring their own bike\, but will have a small bike library on site for riders to borrow one if they need. \nJoin us for the FREE community event – All are welcome! \nBWGI and our partner organizations will be onsite leading this activity with trained LCIs and volunteer staff. \n  \nHelmets are required for this event.  \n  \nBWGI will provide free bike helmets with helmet safety education to any rider who lacks this essential safety equipment\, thanks to funding from the GA Governor’s Office of Highway Safety (GOHS).  \n 
URL:https://bikewalkgoldenisles.org/event/cob-ga-cities-week-bike-rodeo/
LOCATION:Mary Ross Waterfront Park\, 10 F St\, Brunswick\, GA\, 31520\, United States
CATEGORIES:Education Program,Special Event,Volunteer Opportunity
END:VEVENT
BEGIN:VEVENT
DTSTART;VALUE=DATE:20260425
DTEND;VALUE=DATE:20260426
DTSTAMP:20260424T001242
CREATED:20260326T183621Z
LAST-MODIFIED:20260414T155013Z
UID:5422-1777075200-1777161599@bikewalkgoldenisles.org
SUMMARY:BWGI Celebrate Trails Day Events
DESCRIPTION:Get Outside for Celebrate Trails Day!  \nOn the fourth Saturday of April\, join BWGI and Rails to Trails Conservancy for the RTC annual springtime celebration of America’s trails. RTC is planning to make the 2026 Celebrate Trails Day the biggest and best yet—and we hope everyone will take part by attending an event or designing your own day on trails in the Golden Isles. \nThis will be BWGI’s first year participating in this national celebration of trails and we have several events planned for the day with partners from across our region! \nWe are highlighting the following events\, but you are welcome to enjoy the day at your favorite trail. Post a picture of with the hashtag #BWGICelebrateTrailsDay2026 to be included in the regional and national count!\n \n\nCamden\n  \nSt. Marys Saturday Morning Ride\nWhat: 40-mile Bike Ride\nWhen: 8:00 AM – 1:00 PM\nWhere: Howard Gilman Memorial Waterfront Park: 201 W St Marys Street\, Saint Marys\, GA  31558\nLink: https://camdencyclingclub.org/content.aspx?page_id=4091&club_id=493098&item_id=2937376 \n  \nGlynn\n\nArmadillo Trail Walk\nWhat: 3-mile Walk\nWhen: 8:00 AM\nWhere: Blythe Island Regional Park (6616 Blythe Island Hwy) — Armadillo Trail\nDirections: Continue past the new playground and pond. Veer right at the split to pass the marina and boat launch. Park in the lot to the left or in spots facing the marsh by the old playground. Meet at the “Celebrate Trails Day” sign by the trailhead adjacent to the playground. \nDetails: Join BWGI\n\nColor the Path\nWhat: Sidewalk Chalk Trail Art \nWhen: 9:30 AM – 3:30 PM\nWhere: MLK-Altama Path from Gloucester to Mansfield\nDetails: Meet at the concrete slab in front of Victorian Antiques (1412 Gloucester St.) at the intersection of Gloucester and MLK Jr. Blvd. Parking available along MLK Jr. Blvd.\nPartners: College of Coastal Georgia\, Glynn Visual Arts\, and SPARK. \nThis event is still in collaborative stages with several partner organizations. Check back and follow our socials for more information. \nLearn more about the celebration and ways to participate at RailsToTrails.Org/CelebrateTrailsDay.
URL:https://bikewalkgoldenisles.org/event/bwgi-celebrate-trails-day-events/
LOCATION:GA
CATEGORIES:Ride,Social Event,Special Event,Trail Event,Volunteer Opportunity,Walk,Walking,Walking Event
END:VEVENT
BEGIN:VEVENT
DTSTART;TZID=America/New_York:20260509T090000
DTEND;TZID=America/New_York:20260509T123000
DTSTAMP:20260424T001242
CREATED:20260408T004547Z
LAST-MODIFIED:20260408T004547Z
UID:5451-1778317200-1778329800@bikewalkgoldenisles.org
SUMMARY:Brunswick Trees Bike Tour
DESCRIPTION:The City of Brunswick Tree Board and Bike Walk Golden Isles invite you on a 3.28 mi. community bike ride to learn about the Heritage Trees in Downtown Brunswick on May 9th. The BRAG Dream Team Gullah/Geechee Club will provide route safety support during the ride and Glynn County Master Gardeners will provide a history at each of our route stops. Vendors have been invited to join us for a small fair following the ride. \nThank you to all of our partners and vendors who are supporting this event: Golden Isles Fund for Trees\, UGA Marine Ext.\, Glynn County Master Gardeners\, BRAG Dream Team Gullah/Geechee Club\, and more… \n  \nFor more information about the Heritage Trees\, please visit the Tree Board website or download their app.
URL:https://bikewalkgoldenisles.org/event/brunswick-trees-bike-tour/
LOCATION:Hanover Square\, 1125 Newcastle Street\, Brunswick\, GA\, 31520
CATEGORIES:Education Program,Fair,One-Time Ride,Ride,Social Event,Special Event,Tour,Volunteer Opportunity
END:VEVENT
BEGIN:VEVENT
DTSTART;TZID=America/New_York:20270313T100000
DTEND;TZID=America/New_York:20270313T100000
DTSTAMP:20260424T001242
CREATED:20260123T215838Z
LAST-MODIFIED:20260123T215907Z
UID:5185-1804932000-1804932000@bikewalkgoldenisles.org
SUMMARY:Save the Date | Brunswick Triathlon
DESCRIPTION:Tentative date: Saturday\, March 13 with make up date Sunday\, March 14\, 2027\n\n\n\nMore details to come!
URL:https://bikewalkgoldenisles.org/event/save-the-date-brunswick-triathlon/
LOCATION:Brunswick Rocks Gym\, 1509 Newcastle Street\, Brunswick\, GA\, 31520\, United States
CATEGORIES:Fundraiser,Party,Social Event,Special Event
END:VEVENT
END:VCALENDAR