BEGIN:VCALENDAR
VERSION:2.0
PRODID:-//Bike Walk Golden Isles - ECPv6.13.2.1//NONSGML v1.0//EN
CALSCALE:GREGORIAN
METHOD:PUBLISH
X-ORIGINAL-URL:https://bikewalkgoldenisles.org
X-WR-CALDESC:Events for Bike Walk Golden Isles
REFRESH-INTERVAL;VALUE=DURATION:PT1H
X-Robots-Tag:noindex
X-PUBLISHED-TTL:PT1H
BEGIN:VTIMEZONE
TZID:America/New_York
BEGIN:DAYLIGHT
TZOFFSETFROM:-0500
TZOFFSETTO:-0400
TZNAME:EDT
DTSTART:20250309T070000
END:DAYLIGHT
BEGIN:STANDARD
TZOFFSETFROM:-0400
TZOFFSETTO:-0500
TZNAME:EST
DTSTART:20251102T060000
END:STANDARD
END:VTIMEZONE
BEGIN:VEVENT
DTSTART;TZID=America/New_York:20250913T084600
DTEND;TZID=America/New_York:20250913T084600
DTSTAMP:20260424T043108
CREATED:20250730T134747Z
LAST-MODIFIED:20250730T134833Z
UID:4503-1757753160-1757753160@bikewalkgoldenisles.org
SUMMARY:Brunswick Fire Foundation 9/11 Memorial Stair Climb
DESCRIPTION:On September 11\, 2001\, 346 FDNY firefighters lost their lives in the wake of the 9/11 attack while rescuing victims from the Twin Towers and from the rubble. \nClimb 120 flights at Glynn Stadium surrounded by local firefighters climbing in full gear for the annual BFF 9/11 Memorial Stair Climb. This climb pays tribute to the 9/11 heroes and supports the Brunswick City Fire Fighters through the Brunswick Fire Foundation. Get a new perspective on  the efforts firefighters put forth to rescue those in need and serve this area. \nYou may make the climb alone\, as a 5 person team or be accompanied by a local fire fighter for part of your journey. \nSee website for more details.
URL:https://bikewalkgoldenisles.org/event/brunswick-fire-foundation-9-11-stair-climb/
LOCATION:Glynn Academy\, 5 Community Action Dr\, Brunswick\, GA\, 31520\, United States
CATEGORIES:Challenge,Fundraiser,Special Event,Walk,Walking,Walking Event
END:VEVENT
BEGIN:VEVENT
DTSTART;TZID=America/New_York:20250920T080000
DTEND;TZID=America/New_York:20250920T170000
DTSTAMP:20260424T043108
CREATED:20250825T144345Z
LAST-MODIFIED:20250825T144345Z
UID:4571-1758355200-1758387600@bikewalkgoldenisles.org
SUMMARY:GC Repeater 5K Challenge -- SSI
DESCRIPTION:Game Changers Running Store and the Golden Isles Track Club Presents the Repeater 5k Challenge! \nThe Challenge: Run as many 3-mile laps every 45 minutes as you can. If you complete all 12 laps\, that will be 36 miles\n12 x 45 minute 3 miles laps \n8:00 a.m. Start\n5:00 p.m. End of last lap\nLaps begin and end at the Game Changers store in Red Fern Village\, the route will be the Monday night usual route. \nFor each lap completed you will receive 1 or more entries to a drawing for 1 pair of free pair of shoes from Game Changers.\nFor example:\nLap 1 = 1 entry\nLap 2 = 2 entries\nLap 3 = 3 entries \nNote:\nTo earn drawing entries\, you must start at 8 a.m. and run the laps consecutively.\nYou can come after 8 a.m. to run laps but will not receive drawing entries. \n-$10 fee +registration fee \n\nOverall Winner will receive a free pair of shoes and a medal/trophy. This is the only award for this event. Overall Winner is the runner who First\, completes the most laps Secondly completes them the fastest in case of a tie.\n\n-No shirts or age group awards\n-A SWAG Bag for anyone who completes the challenge\n-Encourage the use of Strava or Garmin to log the miles\n-We will have a clock to track the 45 minutes per lap\n-Must complete each 3-mile lap within 45 minutes\n-Each runner begins the lap at the same time\n-Will have nutrition throughout the day for participants \n-Proceeds benefit the Glynn Academy Cross Country Team\n-Sponsored by Game Changers Running Store and Golden Isles Track Club
URL:https://bikewalkgoldenisles.org/event/gc-repeater-5k-challenge-ssi/
LOCATION:Game Changers\, 262 Redfern Village\, Saint Simons Island\, GA\, 31522\, United States
CATEGORIES:Race,Run,Walking
END:VEVENT
BEGIN:VEVENT
DTSTART;TZID=America/New_York:20250927T080000
DTEND;TZID=America/New_York:20250927T080000
DTSTAMP:20260424T043108
CREATED:20250905T125633Z
LAST-MODIFIED:20250905T125817Z
UID:4628-1758960000-1758960000@bikewalkgoldenisles.org
SUMMARY:City of Brunswick Wellness Walk
DESCRIPTION:From their site: \nJoin us Saturday\, September 27 for the Annual Wellness Walk — a fun\, energizing way to connect with your community and celebrate a healthy lifestyle! \nRegistration is OPEN: https://brushfire.com/discoverbrunswick/wellnesswalk/608991 \nGrab your family and friends and take the first step toward a healthier\, happier you!
URL:https://bikewalkgoldenisles.org/event/city-of-brunswick-wellness-walk/
LOCATION:Harold E. Jennings Wellness Park\, 1116 Lanier Blvd\, Brunswick\, Georgia\, 31520
CATEGORIES:Outreach,Social Event,Special Event,Walk,Walking,Walking Event
END:VEVENT
END:VCALENDAR