BEGIN:VCALENDAR
VERSION:2.0
PRODID:-//Bike Walk Golden Isles - ECPv6.13.2.1//NONSGML v1.0//EN
CALSCALE:GREGORIAN
METHOD:PUBLISH
X-WR-CALNAME:Bike Walk Golden Isles
X-ORIGINAL-URL:https://bikewalkgoldenisles.org
X-WR-CALDESC:Events for Bike Walk Golden Isles
REFRESH-INTERVAL;VALUE=DURATION:PT1H
X-Robots-Tag:noindex
X-PUBLISHED-TTL:PT1H
BEGIN:VTIMEZONE
TZID:America/New_York
BEGIN:DAYLIGHT
TZOFFSETFROM:-0500
TZOFFSETTO:-0400
TZNAME:EDT
DTSTART:20240310T070000
END:DAYLIGHT
BEGIN:STANDARD
TZOFFSETFROM:-0400
TZOFFSETTO:-0500
TZNAME:EST
DTSTART:20241103T060000
END:STANDARD
END:VTIMEZONE
BEGIN:VEVENT
DTSTART;VALUE=DATE:20240120
DTEND;VALUE=DATE:20240121
DTSTAMP:20260423T175320
CREATED:20231110T183555Z
LAST-MODIFIED:20240118T200608Z
UID:2404-1705708800-1705795199@bikewalkgoldenisles.org
SUMMARY:Blythe Island Regional Park Marsh Cleanup
DESCRIPTION:Meet at the playground to receive directions and supplies.\n\n~ All Cleanup Supplies Provided\n~ All Ages Welcome\nIn partnership with Bike Walk Golden Isles and Southeast Georgia Southern Off-Road Bicycle Association\nFor more info\, Keep Golden Isles Beautiful: KGIB.ORG events page for more info; info.kbgib@gmail.com 912-279-1490
URL:https://bikewalkgoldenisles.org/event/blythe-island-regional-park-marsh-cleanup/
LOCATION:Blythe Island Highway\, 6616 Blythe Island Highway\, Brunswick\, GA\, 31523\, United States
CATEGORIES:Trail Clean-up
ATTACH;FMTTYPE=image/jpeg:https://bikewalkgoldenisles.org/wp-content/uploads/2023/11/2024-01-20-kgib-cleanup.jpg
ORGANIZER;CN="Keep Golden Isles Beautiful":MAILTO:info.kbgib@gmail.com
END:VEVENT
END:VCALENDAR