BEGIN:VCALENDAR
VERSION:2.0
PRODID:-//Bike Walk Golden Isles - ECPv6.13.2.1//NONSGML v1.0//EN
CALSCALE:GREGORIAN
METHOD:PUBLISH
X-WR-CALNAME:Bike Walk Golden Isles
X-ORIGINAL-URL:https://bikewalkgoldenisles.org
X-WR-CALDESC:Events for Bike Walk Golden Isles
REFRESH-INTERVAL;VALUE=DURATION:PT1H
X-Robots-Tag:noindex
X-PUBLISHED-TTL:PT1H
BEGIN:VTIMEZONE
TZID:America/New_York
BEGIN:DAYLIGHT
TZOFFSETFROM:-0500
TZOFFSETTO:-0400
TZNAME:EDT
DTSTART:20250309T070000
END:DAYLIGHT
BEGIN:STANDARD
TZOFFSETFROM:-0400
TZOFFSETTO:-0500
TZNAME:EST
DTSTART:20251102T060000
END:STANDARD
END:VTIMEZONE
BEGIN:VEVENT
DTSTART;TZID=America/New_York:20250503T080000
DTEND;TZID=America/New_York:20250503T080000
DTSTAMP:20260424T131044
CREATED:20250428T141829Z
LAST-MODIFIED:20250428T142331Z
UID:3989-1746259200-1746259200@bikewalkgoldenisles.org
SUMMARY:Risley Middle School - Risley Run and Wildcat Walk
DESCRIPTION:From their website: \nRACE DATE: MAY 3RD\, 2025 \nRACE TIME: 8:00AM \nJoin Risley Middle School in their first annual Risley Run and Wildcat Walk! Take your pick on whether you want to RUN or WALK. All proceeds from this event will support Risley Middle School Future Business Leaders of America (FBLA) members on their trip to represent Georgia at the National Leadership Conference in Anaheim\, California this summer. In Risley FBLA chapter’s first year\, they received Silver Chapter of the Year (Top 10 in the state)\, 11 top ten finishers\, and one of our students was elected as the State Vice President! \nThe 5k run will start at 8:00am and wind through neighborhoods along South Port Parkway. The Start and Finish line will be in front of Risley Middle School. All runners will receive a tshirt. Event will be chipped timed and results posted. \nRunners and walkers are encouraged to hang around for the Awards Ceremony following the race. Come join in on the fun while also supporting some great students! \nTHE DEADLINE TO BE GUARANTEED A T-SHIRT IS APRIL 22ND. \nThe top 3 overall male and female winners will receive the following thanks to our amazing sponsor\, Game Changers SSI! \nTop Male and Female: Free Pair of Shoes from Game Changers\n2nd Place Male and Female: $50 gift card to Game Changers\n3rd Place Male and Female: $25 gift card to Game Changers
URL:https://bikewalkgoldenisles.org/event/risley-run-2025/
LOCATION:Risley Middle School\, 707 South Port Pkwy\, Brunswick\, GA\, 31523\, United States
CATEGORIES:Run,Special Event
END:VEVENT
BEGIN:VEVENT
DTSTART;TZID=America/New_York:20250507T180000
DTEND;TZID=America/New_York:20250507T180000
DTSTAMP:20260424T131044
CREATED:20250429T153223Z
LAST-MODIFIED:20250505T163901Z
UID:3994-1746640800-1746640800@bikewalkgoldenisles.org
SUMMARY:Bike Month Proclamation by City Commission
DESCRIPTION:Bike Walk Golden Isles will attend the May 7th Commission Meeting as Brunswick City officially designates May as “Bike Month”! This designation comes at the request of BWGI. We are excited for this move forward in making our region a more bike-friendly community.
URL:https://bikewalkgoldenisles.org/event/bike-month-proclamation-by-city-commission/
LOCATION:Old City Hall\, 1229 Newcastle Street\, Brunswick\, GA\, 31520
CATEGORIES:Meeting,Special Event
END:VEVENT
BEGIN:VEVENT
DTSTART;TZID=America/New_York:20250517T090000
DTEND;TZID=America/New_York:20250517T130000
DTSTAMP:20260424T131044
CREATED:20250325T162718Z
LAST-MODIFIED:20250512T182255Z
UID:3730-1747472400-1747486800@bikewalkgoldenisles.org
SUMMARY:Annual Camden Cycling Club / NFBC Joint Club Ride
DESCRIPTION:Pre-Registration Recommended \nRide with Camden Cycling Club and the North Florida Bike Club and BWGI for the annual joint ride. This 30-mile ride will travel through the country roads of Woodbine\, GA. \nFree and open to the public. \nBike Walk Golden Isles will be supporting this event. \n  \nParticipants are welcome to gather for lunch following the conclusion of the ride.
URL:https://bikewalkgoldenisles.org/event/annual-camden-cycling-club-nfbc-joint-club-ride/
LOCATION:GA
CATEGORIES:Race,Ride,Special Event
END:VEVENT
END:VCALENDAR