BEGIN:VCALENDAR
VERSION:2.0
PRODID:-//Bike Walk Golden Isles - ECPv6.13.2.1//NONSGML v1.0//EN
CALSCALE:GREGORIAN
METHOD:PUBLISH
X-WR-CALNAME:Bike Walk Golden Isles
X-ORIGINAL-URL:https://bikewalkgoldenisles.org
X-WR-CALDESC:Events for Bike Walk Golden Isles
REFRESH-INTERVAL;VALUE=DURATION:PT1H
X-Robots-Tag:noindex
X-PUBLISHED-TTL:PT1H
BEGIN:VTIMEZONE
TZID:America/New_York
BEGIN:DAYLIGHT
TZOFFSETFROM:-0500
TZOFFSETTO:-0400
TZNAME:EDT
DTSTART:20250309T070000
END:DAYLIGHT
BEGIN:STANDARD
TZOFFSETFROM:-0400
TZOFFSETTO:-0500
TZNAME:EST
DTSTART:20251102T060000
END:STANDARD
END:VTIMEZONE
BEGIN:VEVENT
DTSTART;TZID=America/New_York:20251111T093000
DTEND;TZID=America/New_York:20251111T093000
DTSTAMP:20260423T202301
CREATED:20251104T153322Z
LAST-MODIFIED:20251105T153627Z
UID:4803-1762853400-1762853400@bikewalkgoldenisles.org
SUMMARY:"Walk With A..." Tour Guide -- Tree Spirit Walk
DESCRIPTION:Are you ready to take a walk with BWGI this month? Linda Olsen\, Tour Guide for Road Scholar and volunteer with Coastal Georgia Historical Society and the College of Coastal Georgia\, will lead us on a Tree Spirit walk on Saint Simons Island on Tuesday\, November 11th. Come learn about these unique carvings by artist Keith Jennings and his son\, Devon!\n\n\n\nMeet at the St. Simons Island Public Library at 9:30 AM for this fun and informative Walk With A…Tour Guide!\n\n\n\nThis walk-and-talk series continues to spotlight areas with needed improvement\, celebrate spaces built with all modes of travel in mind\, and help pave the way for a more connected Golden Isles through interesting conversations with local leaders and experts. Everyone deserves to get where they want to go safely and comfortably\, no matter how they move.
URL:https://bikewalkgoldenisles.org/event/walk-with-a-tour-guide-tree-spirit-walk/
LOCATION:St. Simons Island Public Library\, 530 Beachview Dr.\, St. Simons Island\, GA\, 31522\, United States
CATEGORIES:Social Event,Walk,Walking,Walking Event
END:VEVENT
BEGIN:VEVENT
DTSTART;TZID=America/New_York:20251115T130000
DTEND;TZID=America/New_York:20251115T150000
DTSTAMP:20260423T202301
CREATED:20250905T132351Z
LAST-MODIFIED:20250908T192626Z
UID:4637-1763211600-1763218800@bikewalkgoldenisles.org
SUMMARY:GCAS Fur-K (4K) Wag\, Walk & Run
DESCRIPTION:Join us for the second annual Fur-k\, Wag\, Walk & Run. This fundraising 4k Human/Dog Walk or Run event will start and finish from hosting partner Silver Bluff Brewing in Brunswick. \nYou may also participate without a dog. If you’d like to check out a shelter dog to be your race companion\, get 50% off your race entry fee – just email info@gcasallies.com for more information. \nProceeds benefit Grateful Cats/Canines Allies and Supporters (GCAS)\, who help better the lives of shelter animals at Glynn County Animal Services through fundraising\, networking and advocacy.
URL:https://bikewalkgoldenisles.org/event/gcas-fur-k-4k/
LOCATION:Silver Bluff Brewing Company\, 1325 Newcastle Street\, Brunswick\, GA\, 31520\, United States
CATEGORIES:Fundraiser,Race,Social Event,Special Event,Volunteer Opportunity,Walk,Walking
ORGANIZER;CN="Grateful Cats/Canines Allies & Supporters":MAILTO:info@gcasallies.com
END:VEVENT
BEGIN:VEVENT
DTSTART;TZID=America/New_York:20251127T073000
DTEND;TZID=America/New_York:20251127T073000
DTSTAMP:20260423T202301
CREATED:20251118T142636Z
LAST-MODIFIED:20251118T193657Z
UID:4829-1764228600-1764228600@bikewalkgoldenisles.org
SUMMARY:Wobble B4 U Gobble
DESCRIPTION:The Wobble B4U Gobble Thanksgiving Day 5K is a fun and festive race that is perfect for families\, friends\, and teams. The race will be held on Thanksgiving Day in Brunswick\, Georgia. The race starts and finishes on Norwich St between Gloucester and Monck St. The course is a flat and scenic route that winds through historic Brunswick.  All proceeds from the event benefit Glynn County Students with special needs. \nRace date:  Thursday\, November 27th\, 2025  \nWhere:  Start/finish/packet pick up on Norwich St between Gloucester and Monck St. \nRace Location: \nOn Norwich St in front of St Mark’s Square \nnext to First United Methodist Church. \nBrunwick\, GA 31520 \n​Packet Pick up: \nWednesday November 27th\, 2024 12pm-4pm and 6:15am on Race day \nYOU CAN ALSO REGISTER IN PERSON! \nFirst United Methodist Church (Directly across St Marks on Norwich) \nRace Day information: \n6:15am Race Day registration and packet pick up opens\n​​     7:30am Fun Run starts\n8:00am 5k start \nRegister by November 15th to guarantee a tshirt.  WE CAN NOT GUARANTEE A SHIRT AFTER THE 15th. \nRACE DAY and Packet PICK UP SAME DAY REGISTRATION:  FUN RUN $30   5k $45 \nTime:  7:30am Fun Run  8:00am 5k Start  \nAwards: ceremony as soon as the results are ready: \n\nAwards for overall/masters male and female winners\nAge group awards\nBest Costume
URL:https://bikewalkgoldenisles.org/event/wobble-b4-u-gobble/
LOCATION:First United Methodist Church\, 1400 Norwich St.\, Brunswick\, GA\, 31520\, United States
CATEGORIES:Fundraiser,Race,Run,Social Event,Special Event
END:VEVENT
END:VCALENDAR