BEGIN:VCALENDAR
VERSION:2.0
PRODID:-//Bike Walk Golden Isles - ECPv6.13.2.1//NONSGML v1.0//EN
CALSCALE:GREGORIAN
METHOD:PUBLISH
X-WR-CALNAME:Bike Walk Golden Isles
X-ORIGINAL-URL:https://bikewalkgoldenisles.org
X-WR-CALDESC:Events for Bike Walk Golden Isles
REFRESH-INTERVAL;VALUE=DURATION:PT1H
X-Robots-Tag:noindex
X-PUBLISHED-TTL:PT1H
BEGIN:VTIMEZONE
TZID:America/New_York
BEGIN:DAYLIGHT
TZOFFSETFROM:-0500
TZOFFSETTO:-0400
TZNAME:EDT
DTSTART:20250309T070000
END:DAYLIGHT
BEGIN:STANDARD
TZOFFSETFROM:-0400
TZOFFSETTO:-0500
TZNAME:EST
DTSTART:20251102T060000
END:STANDARD
END:VTIMEZONE
BEGIN:VEVENT
DTSTART;TZID=America/New_York:20251018T080000
DTEND;TZID=America/New_York:20251018T080000
DTSTAMP:20260424T004509
CREATED:20250325T194245Z
LAST-MODIFIED:20250714T011720Z
UID:3743-1760774400-1760774400@bikewalkgoldenisles.org
SUMMARY:BWGI Pedal Golden Isles 2025
DESCRIPTION:SAVE THE DATE \n Please join us for Pedal Golden Isles 2025! \nOn October 18th\, we will host our second annual all-levels\, family-friendly cycling fundraiser\, where riders participate in rides of 20\, 40\, or 62 miles through Glynn and Camden counties. In PGI’s inaugural year\, we drew 148 riders. Pedal Golden Isles promotes a healthy and active lifestyle\, and strengthens community ties\, while showcasing the beauty of our region. \nOne of the goals of Bike Walk Golden Isles is to promote safe cycling. Accordingly\, the rides are intended to be recreational rides rather than races. The rides will allow you to cycle with friends and\, hopefully\, make new friends along the routes and at the frequent rest stops. Each rider who registers before October 2nd will receive a quality\, ride themed t-shirt to commemorate the event. \nEarly Packet Pickup: Thursday 10/16 4-7 pm Game Changers Running Company on St Simons\nRide Day Packet Pickup; Saturday 10/18 6:45 Risley Middle School \nNOTE: You must register by October 2nd to guarantee a shirt.  \nThe bike ride will begin and end at the Risley Middle School at 707 South Port Pkway\, Brunswick GA \n20 Mile Route: https://ridewithgps.com/routes/48830458\n40 Mile Route: https://ridewithgps.com/routes/46169193\n62 Mile Route: https://ridewithgps.com/routes/45821583
URL:https://bikewalkgoldenisles.org/event/bwgi-pedal-golden-isles-2025/
LOCATION:Risley Middle School\, 707 South Port Pkwy\, Brunswick\, GA\, 31523\, United States
CATEGORIES:Ride,Social Event,Special Event,Volunteer Opportunity
END:VEVENT
END:VCALENDAR