BEGIN:VCALENDAR
VERSION:2.0
PRODID:-//Bike Walk Golden Isles - ECPv6.13.2.1//NONSGML v1.0//EN
CALSCALE:GREGORIAN
METHOD:PUBLISH
X-WR-CALNAME:Bike Walk Golden Isles
X-ORIGINAL-URL:https://bikewalkgoldenisles.org
X-WR-CALDESC:Events for Bike Walk Golden Isles
REFRESH-INTERVAL;VALUE=DURATION:PT1H
X-Robots-Tag:noindex
X-PUBLISHED-TTL:PT1H
BEGIN:VTIMEZONE
TZID:America/New_York
BEGIN:DAYLIGHT
TZOFFSETFROM:-0500
TZOFFSETTO:-0400
TZNAME:EDT
DTSTART:20250309T070000
END:DAYLIGHT
BEGIN:STANDARD
TZOFFSETFROM:-0400
TZOFFSETTO:-0500
TZNAME:EST
DTSTART:20251102T060000
END:STANDARD
END:VTIMEZONE
BEGIN:VEVENT
DTSTART;TZID=America/New_York:20250913T090000
DTEND;TZID=America/New_York:20250913T120000
DTSTAMP:20260424T045915
CREATED:20250825T145908Z
LAST-MODIFIED:20250825T145908Z
UID:4573-1757754000-1757764800@bikewalkgoldenisles.org
SUMMARY:SSUMP Wheel-A-Thon
DESCRIPTION:2nd Annual SSUMP\nWheel–A–Thon 2025 \nThis fundraiser is a noncompetitive\, fun bike race around the block on a designated course around St. Simons United Methodist Church! \nBike race features two heats based on age/riding-ability. \n\n1st Heat starts at 9:30 AM for children 2 years old and under\n2nd Heat starts at 10:30 AM for children 3 years old and older\n\nActivity Village is open from 9:00 to 12:00 so join us there before\, during\, or after you race! \nChildren 12 and under are invited to ride bikes\, trikes\, scooters\, and strollers to participate. \nActivity Village includes bounce houses\, face painting\, interactive experiences\, crafts\, and more! An unlimited activities wristband is available for purchase but individual activity access may be purchased day-of event. \nAttendees will be able to purchase refreshments and food with shaded seating available on a first-come\, first-served basis. \nRaffle will feature fabulous prize baskets donated by our amazing business and community partners. Raffle tickets will be available for purchase beforehand as well as during the event.
URL:https://bikewalkgoldenisles.org/event/ssump-wheel-a-thon/
LOCATION:St Simons United Methodist Church\, 624 Ocean Boulevard\, St Simons Island\, Ga\, 31522
CATEGORIES:Fundraiser,One-Time Ride,Party,Social Event,Special Event
END:VEVENT
BEGIN:VEVENT
DTSTART;TZID=America/New_York:20250920T103000
DTEND;TZID=America/New_York:20250920T103000
DTSTAMP:20260424T045915
CREATED:20250908T192505Z
LAST-MODIFIED:20250908T200854Z
UID:4640-1758364200-1758364200@bikewalkgoldenisles.org
SUMMARY:BRAG Gullah/Geechee Club Community Ride
DESCRIPTION:The BRAG Dream Team Gullah/Geechee Club is holding their monthly ride on August 20 at 10:30 AM. Meet at Howard Coffin Park for this free\, fun slow roll through Downtown Brunswick. The DT will make periodic stops to highlight local history. \n  \nHelmets are required for this ride. If you or someone in your group needs a helmet\, please reach out to Bike Walk Golden Isles prior to September 20th and we will provide on for you free of charge. \n 
URL:https://bikewalkgoldenisles.org/event/brag-gullah-geechee-club-community-ride/
LOCATION:Howard Coffin Park\, 1402 Sonny Miller Way\, Brunswick\, GA\, 31520\, United States
CATEGORIES:Recurring Ride,Ride,Social Event,Tour
END:VEVENT
BEGIN:VEVENT
DTSTART;TZID=America/New_York:20250927T080000
DTEND;TZID=America/New_York:20250927T080000
DTSTAMP:20260424T045915
CREATED:20250905T125633Z
LAST-MODIFIED:20250905T125817Z
UID:4628-1758960000-1758960000@bikewalkgoldenisles.org
SUMMARY:City of Brunswick Wellness Walk
DESCRIPTION:From their site: \nJoin us Saturday\, September 27 for the Annual Wellness Walk — a fun\, energizing way to connect with your community and celebrate a healthy lifestyle! \nRegistration is OPEN: https://brushfire.com/discoverbrunswick/wellnesswalk/608991 \nGrab your family and friends and take the first step toward a healthier\, happier you!
URL:https://bikewalkgoldenisles.org/event/city-of-brunswick-wellness-walk/
LOCATION:Harold E. Jennings Wellness Park\, 1116 Lanier Blvd\, Brunswick\, Georgia\, 31520
CATEGORIES:Outreach,Social Event,Special Event,Walk,Walking,Walking Event
END:VEVENT
END:VCALENDAR