BEGIN:VCALENDAR
VERSION:2.0
PRODID:-//Bike Walk Golden Isles - ECPv6.13.2.1//NONSGML v1.0//EN
CALSCALE:GREGORIAN
METHOD:PUBLISH
X-WR-CALNAME:Bike Walk Golden Isles
X-ORIGINAL-URL:https://bikewalkgoldenisles.org
X-WR-CALDESC:Events for Bike Walk Golden Isles
REFRESH-INTERVAL;VALUE=DURATION:PT1H
X-Robots-Tag:noindex
X-PUBLISHED-TTL:PT1H
BEGIN:VTIMEZONE
TZID:America/New_York
BEGIN:DAYLIGHT
TZOFFSETFROM:-0500
TZOFFSETTO:-0400
TZNAME:EDT
DTSTART:20250309T070000
END:DAYLIGHT
BEGIN:STANDARD
TZOFFSETFROM:-0400
TZOFFSETTO:-0500
TZNAME:EST
DTSTART:20251102T060000
END:STANDARD
END:VTIMEZONE
BEGIN:VEVENT
DTSTART;TZID=America/New_York:20250614T093000
DTEND;TZID=America/New_York:20250614T093000
DTSTAMP:20260424T073858
CREATED:20250520T144217Z
LAST-MODIFIED:20250606T155335Z
UID:4335-1749893400-1749893400@bikewalkgoldenisles.org
SUMMARY:"Walk With A..." Farmer Chef to the Farmers Market
DESCRIPTION:Join us for a special Saturday event in the BWGI “Walk With A…” walk-and-talk series! \nFarmer Chef Matthew Raiford of Gilliard Farms will lead us on a 1-mile walk through Downtown Brunswick to the Forward Brunswick Farmers Market on Saturday\, June 14th. \nMeet at the Wick 3.0 (501 Gloucester St.). Walk begins at 9:30 AM. \nThe “Walk With A…” walk-and-talk series continues to spotlight areas of needed improvement\, celebrate spaces built with all modes of travel in mind\, and help pave the way for a more connected Brunswick through interesting conversations with local leaders and experts.
URL:https://bikewalkgoldenisles.org/event/wwa-farmer-chef/
LOCATION:Wick 3.0\, 501 Gloucester St\, Brunswick\, GA\, 31520
CATEGORIES:Social Event,Special Event,Walk,Walking,Walking Event
END:VEVENT
BEGIN:VEVENT
DTSTART;TZID=America/New_York:20250621T080000
DTEND;TZID=America/New_York:20250621T170000
DTSTAMP:20260424T073858
CREATED:20250428T140937Z
LAST-MODIFIED:20250428T140937Z
UID:3987-1750492800-1750525200@bikewalkgoldenisles.org
SUMMARY:The Heritage Race
DESCRIPTION:5K RACE\nHeld for the 7th year\, the chipped timed 5K race takes runners down Brunswick’s most historic African-American corridor and past some of Brunswick’s most historic neighborhoods\, offering participants the opportunity to immerse themselves in the vibrant history. \nThis is a great opportunity to achieve a 5K personal record (PR) with its flat\, long\, straight stretches. This route follows an out-and-back path along Albany to 4th Street. \nGuided Historic WALK\nParticipants take a guided walk down historic Albany Street\, which has been the heartbeat of African-American history since after the Civil War. Walkers are transported back in time and can connect with the rich heritage and stories as they pass landmarks\, historic homes\, and sites. \nProceeds benefit the Brunswick African American Cultural Center (BAACC) \n5K Race starts at 8:00 a.m.\nHistoric Walk starts at 8:15 a.m. \nLocation: 1621 Albany St \nPre-Race Day Packet Pick-Up\nFriday\n3:00 – 6:00 pm.\n1621 Albany St \nAWARDS\nOverall Male and Female will each receive a free pair of shoes from Game Changers Running Company\, including a foot scan & gait assessment.\nMasters (40-59) and Senior Masters (60+) Male and Female\nAge Group (10-year age brackets) 1st\, 2nd\, 3rd places Male and Female\n12 and under\, 13-19\, 20-29\, 30-39\, 40-49\, 50-59\, 60-69\, 70+ \nRegistration\nIn-person registration is available during packet pick-up and race day \nParticipants who can’t pick up their race numbers may have a third party pick them up. \nStart Location & Start Times\nThe Heritage 5K Race starts at 8:00 A.M. Both events start in front of the BAACC building at\n1621 Albany Street. \nT-SHIRT PICK UP\nParticipants who register by 12 A.M. on June 8th\, will receive a T-shirt.\nT-shirts will be distributed after the event for walkers and during packet pick-up for runners.\nT-shirts for registrations made after June 8th will be distributed based on availability of supplies and sizes. \nRACE BIBS\nChip timing is provided by Quintanar Racing\nAlways wear your race number bib on the outermost layer of clothing during the race.\nRemoving or damaging the bib may render the tag inoperable\, and the participant may not appear in the results. \nROUTE\nHere is the Route https://www.mapmyrun.com/routes/view/5331290929
URL:https://bikewalkgoldenisles.org/event/the-heritage-race-2/
LOCATION:Brunswick African American Cultural Center (BAACC)\, 1621 Albany\, Brunswick\, GA\, 31520\, United States
CATEGORIES:Race,Run,Social Event,Special Event
END:VEVENT
BEGIN:VEVENT
DTSTART;TZID=America/New_York:20250621T100000
DTEND;TZID=America/New_York:20250621T100000
DTSTAMP:20260424T073858
CREATED:20250613T034244Z
LAST-MODIFIED:20250613T041105Z
UID:4405-1750500000-1750500000@bikewalkgoldenisles.org
SUMMARY:BRAG JUNETEENTH Festival and Community Bike Ride
DESCRIPTION:The Gullah/Geechee Club invites you to join their 6th annual JUNETEENTH Festival and Celebrations Community Ride at 10 AM on June 21. \nThis free and fun ride will begin and end at Historic Selden Park (100 Genoa Martin Dr.).
URL:https://bikewalkgoldenisles.org/event/juneteenth-community-bike-ride/
LOCATION:Selden Park\, 100 Genoa Martin Drive\, Brunswick\, 31520\, United States
CATEGORIES:One-Time Ride,Outreach,Ride,Social Event,Special Event
END:VEVENT
END:VCALENDAR