BEGIN:VCALENDAR
VERSION:2.0
PRODID:-//Bike Walk Golden Isles - ECPv6.13.2.1//NONSGML v1.0//EN
CALSCALE:GREGORIAN
METHOD:PUBLISH
X-WR-CALNAME:Bike Walk Golden Isles
X-ORIGINAL-URL:https://bikewalkgoldenisles.org
X-WR-CALDESC:Events for Bike Walk Golden Isles
REFRESH-INTERVAL;VALUE=DURATION:PT1H
X-Robots-Tag:noindex
X-PUBLISHED-TTL:PT1H
BEGIN:VTIMEZONE
TZID:America/New_York
BEGIN:DAYLIGHT
TZOFFSETFROM:-0500
TZOFFSETTO:-0400
TZNAME:EDT
DTSTART:20250309T070000
END:DAYLIGHT
BEGIN:STANDARD
TZOFFSETFROM:-0400
TZOFFSETTO:-0500
TZNAME:EST
DTSTART:20251102T060000
END:STANDARD
END:VTIMEZONE
BEGIN:VEVENT
DTSTART;TZID=America/New_York:20250401T103000
DTEND;TZID=America/New_York:20250401T103000
DTSTAMP:20260424T161033
CREATED:20250312T140908Z
LAST-MODIFIED:20250312T140908Z
UID:3644-1743503400-1743503400@bikewalkgoldenisles.org
SUMMARY:Brunswick Library — BWK Walking Club - Brunswick
DESCRIPTION:Meets every Tuesday at 10:30 AM at the Gloucester entrance of the Brunswick Library for a 1 mile leisurely walk to Hanover Square and back. In the case of inclement weather at 9:30 AM\, the class will be canceled for the day.
URL:https://bikewalkgoldenisles.org/event/brunswick-library-bwk-walking-club-brunswick-3/
LOCATION:Marshes of Glynn Libraries\, 208 Gloucester St\, Brunswick\, GA\, 31520\, United States
CATEGORIES:Social Event,Walk,Walking,Walking Event
ORGANIZER;CN="Marshesof Glynn Libraries":MAILTO:dgraham@glynncounty-ga.gov
END:VEVENT
BEGIN:VEVENT
DTSTART;TZID=America/New_York:20250408T093000
DTEND;TZID=America/New_York:20250408T093000
DTSTAMP:20260424T161033
CREATED:20250403T175140Z
LAST-MODIFIED:20250403T203130Z
UID:3747-1744104600-1744104600@bikewalkgoldenisles.org
SUMMARY:"Walk With A..." Historian
DESCRIPTION:This month\, come along for a “Walk With A…” Historian. Allison Dupuis is the Historian at the Coastal Georgia Historical Society\, which oversees the St. Simons Lighthouse Museum and the World War II Home Front Museum. As the Historian at CGHS and previously as the Museum Educator at Mosaic\, Jekyll Island Museum\, she has been learning\, researching\, writing\, and speaking about the Golden Isles’ fascinating history for more than four years. Her recent presentation topics include the history of the F.J. Torras Causeway and T.L. Huston\, the builder and original resident of the Huston House on Butler Island. \nWe will set off from the Golden Isles Welcome Center (529 Beachview Dr.\, SSI) on Tuesday\, April 8th at 9:30 AM. Allison will lead us along a 2.2 mile out-and-back walk to King and Prince on the anniversary of the U-Boat Attack on Saint Simons Island. This walk-and-talk experience will be filled with interesting facts about local WWII history. Be prepared to learn something new! \nBWGI created this program to connect different members of the Golden Isles community while assessing the safety\, walk- and bikeability of the routes we take. Throughout our journey\, join BWGI staff as we point out areas of concern and acknowledge the spaces that have been done well. Some of the paths we take on these excursions are rough\, have missing or broken sidewalks\, and more. Watch where you step! \nAs always\, come prepared for southeast Georgia weather. Wear sunscreen\, sturdy walking shoes and a hat\, and bring water for this outdoor excursion. \n 
URL:https://bikewalkgoldenisles.org/event/wwa-historian/
LOCATION:Golden Isles Welcome Center\, 529 Beachview Dr.\, St Simons Island\, GA\, 31522
CATEGORIES:Social Event,Tour,Walk,Walking,Walking Event
END:VEVENT
BEGIN:VEVENT
DTSTART;TZID=America/New_York:20250408T103000
DTEND;TZID=America/New_York:20250408T103000
DTSTAMP:20260424T161033
CREATED:20250321T154118Z
LAST-MODIFIED:20250321T154118Z
UID:3718-1744108200-1744108200@bikewalkgoldenisles.org
SUMMARY:Brunswick Library — BWK Walking Club - Brunswick
DESCRIPTION:Meets every Tuesday at 10:30 AM at the Gloucester entrance of the Brunswick Library for a 1 mile leisurely walk to Hanover Square and back. In the case of inclement weather at 9:30 AM\, the class will be canceled for the day.
URL:https://bikewalkgoldenisles.org/event/brunswick-library-bwk-walking-club-brunswick-4/
LOCATION:Marshes of Glynn Libraries\, 208 Gloucester St\, Brunswick\, GA\, 31520\, United States
CATEGORIES:Social Event,Walk,Walking,Walking Event
ORGANIZER;CN="Marshesof Glynn Libraries":MAILTO:dgraham@glynncounty-ga.gov
END:VEVENT
BEGIN:VEVENT
DTSTART;TZID=America/New_York:20250412T100000
DTEND;TZID=America/New_York:20250412T100000
DTSTAMP:20260424T161033
CREATED:20250321T152429Z
LAST-MODIFIED:20250321T152447Z
UID:3712-1744452000-1744452000@bikewalkgoldenisles.org
SUMMARY:BRAG's "I Ride Beside Maud" Community Ride
DESCRIPTION:The Gullah/Geechee BRAG Dream Team invites all cyclists to their monthly “I Ride Beside Maud” Justice for Ahmaud Community Bike Ride. \nMeet at Howard Coffin Park in Brunswick\, April 12th at 10 a.m. for an all-levels group ride. \nFree and always a fun event! \n \n 
URL:https://bikewalkgoldenisles.org/event/brag-ridebeside-maud/
LOCATION:Howard Coffin Park\, 1402 Sonny Miller Way\, Brunswick\, GA\, 31520\, United States
CATEGORIES:Recurring Ride,Ride,Social Event
END:VEVENT
BEGIN:VEVENT
DTSTART;TZID=America/New_York:20250712T100000
DTEND;TZID=America/New_York:20250712T100000
DTSTAMP:20260424T161033
CREATED:20250714T155740Z
LAST-MODIFIED:20250714T155740Z
UID:4477-1752314400-1752314400@bikewalkgoldenisles.org
SUMMARY:BRAG's "I Ride Beside Maud" Community Ride
DESCRIPTION:The Gullah/Geechee BRAG Dream Team invites all cyclists to their monthly “I Ride Beside Maud” Justice for Ahmaud Community Bike Ride. \nMeet at Howard Coffin Park in Brunswick\, July 12th at 10 a.m. for an all-levels group ride. \nFree and always a fun event! \n \n 
URL:https://bikewalkgoldenisles.org/event/brags-i-ride-beside-maud-community-ride-2/
LOCATION:Howard Coffin Park\, 1402 Sonny Miller Way\, Brunswick\, GA\, 31520\, United States
CATEGORIES:Recurring Ride,Ride,Social Event
END:VEVENT
BEGIN:VEVENT
DTSTART;TZID=America/New_York:20250425T080000
DTEND;TZID=America/New_York:20250425T080000
DTSTAMP:20260424T161033
CREATED:20250421T140502Z
LAST-MODIFIED:20250421T140637Z
UID:3947-1745568000-1745568000@bikewalkgoldenisles.org
SUMMARY:GCAS Running Buddies Run/Walk
DESCRIPTION:Join Grateful Cats/Canines Allies & Supporters this Friday\, 4/25/25 at 8am on SSI to run/walk with local shelter dogs! \nWe’ll meet in the parking lot by the pier in front of Brogen’s South (200 Pier Aly\, St Simons\, GA 31522).  \nAs always\, you’re welcome to run\, walk\, play or just chill with your pup partner! If you’re able to join\, please sign up (click the link “Running Buddies Sign Up” below). Liz will bring the mobile van\, which holds up to eight pups…so the first eight volunteers who sign up to walk or run with a pup will be paired with one! \nIf you have to cancel\, please remove your name from the sign up sheet by EOD Thursday so that Liz doesn’t bring a dog that won’t have a volunteer. We don’t want pups to have to stay in the van during the meeting up!
URL:https://bikewalkgoldenisles.org/event/running-buddies/
LOCATION:Brogens South\, 200 Pier Aly\, St. Simons Island\, Ga\, 31522
CATEGORIES:Run,Social Event,Volunteer Opportunity,Walk,Walking Event
ORGANIZER;CN="Grateful Cats/Canines Allies & Supporters":MAILTO:runningbuddies@gcasallies.com
END:VEVENT
BEGIN:VEVENT
DTSTART;TZID=America/New_York:20250426T080000
DTEND;TZID=America/New_York:20250426T080000
DTSTAMP:20260424T161033
CREATED:20250325T170657Z
LAST-MODIFIED:20250428T133401Z
UID:3734-1745654400-1745654400@bikewalkgoldenisles.org
SUMMARY:Honeybee Bicycle Ride - LaFayette\, GA
DESCRIPTION:Kick off your cycling season with the 8th annual HONEYBEE BICYCLE RIDE on April 26th! Conveniently located between Atlanta and Chattanooga\, LaFayette\, Georgia offers cyclists an amazing landscape of pastoral scenery steeped in history. Come experience these beautiful backroads on routes of 33\, 52 and 74 miles. We also have a 10-mile family fun ride through downtown Lafayette! \n  \nEarly registration thru Dec 31st is only $55. \nRegular registration thru March 31st is $65. \nLate registration thru April 24th is $75. \nOnline registration closes on Thursday\, April 24th @ 11:59PM. \nSame-Day registration will be available for $85. \n  \nPacket pickup at the LaFayette Recreation Center 4pm-6pm\, Friday\, April 25th\, and 6:30am-8am\, Saturday\, April 26th. \n  \nThe first 250 paying participants will receive a gift bag that includes a free pass to Rock City!\nAll routes start at 8:00 a.m. except for the 10-mile route\, which starts at 8:15 a.m.; \n 
URL:https://bikewalkgoldenisles.org/event/camden-cycling-club-honeybee-bicycle-ride-lafayette-ga/
LOCATION:GA
CATEGORIES:Ride,Social Event
END:VEVENT
END:VCALENDAR