BEGIN:VCALENDAR
VERSION:2.0
PRODID:-//Bike Walk Golden Isles - ECPv6.13.2.1//NONSGML v1.0//EN
CALSCALE:GREGORIAN
METHOD:PUBLISH
X-ORIGINAL-URL:https://bikewalkgoldenisles.org
X-WR-CALDESC:Events for Bike Walk Golden Isles
REFRESH-INTERVAL;VALUE=DURATION:PT1H
X-Robots-Tag:noindex
X-PUBLISHED-TTL:PT1H
BEGIN:VTIMEZONE
TZID:America/New_York
BEGIN:DAYLIGHT
TZOFFSETFROM:-0500
TZOFFSETTO:-0400
TZNAME:EDT
DTSTART:20250309T070000
END:DAYLIGHT
BEGIN:STANDARD
TZOFFSETFROM:-0400
TZOFFSETTO:-0500
TZNAME:EST
DTSTART:20251102T060000
END:STANDARD
END:VTIMEZONE
BEGIN:VEVENT
DTSTART;TZID=America/New_York:20250309T180000
DTEND;TZID=America/New_York:20250309T180000
DTSTAMP:20260424T193956
CREATED:20250305T150221Z
LAST-MODIFIED:20250305T150221Z
UID:3595-1741543200-1741543200@bikewalkgoldenisles.org
SUMMARY:Camden Cycling Club Daylight Savings Celebration
DESCRIPTION:Come out and celebrate the beginning of Daylight Savings time with a 12 mile ride around town followed by dinner at Pirates Point Bar and Grill. This is a great opportunity to meet and get to know members of Camden Cycling Club. This ride will start and end at the Dollar General on Point Peter Road. Please park in the far back left corner of the parking lot. Join us for dinner and music videos at Pirates Point Bar and Grill next door at the end of the ride. We hope to see you there! \nhttps://ridewithgps.com/routes/49850328
URL:https://bikewalkgoldenisles.org/event/camden-cycling-club-daylight-savings-celebration/
LOCATION:Pirate Points Bar & Grill\, 1470 Point Peter Road\, Saint Marys\, GA\, 31558
CATEGORIES:Ride,Social Event
END:VEVENT
BEGIN:VEVENT
DTSTART;TZID=America/New_York:20250311T093000
DTEND;TZID=America/New_York:20250311T093000
DTSTAMP:20260424T193956
CREATED:20250305T143546Z
LAST-MODIFIED:20250305T150653Z
UID:3584-1741685400-1741685400@bikewalkgoldenisles.org
SUMMARY:"Walk With A..." Muralist
DESCRIPTION:Bike Walk Golden Isles is hosting the second excursion for our monthly walk-and-talk program\, and it’s happening next week! This month\, come along for a “Walk With A…” Muralist. Prolific artist Roderrick Davis is leading us along a ~2-mile mural walk through downtown Brunswick. Many of the murals along our planned route were done as part of The Brunswick Mural Project by Glynn Visual Arts\, one was part of the “Honoring The Past and Building The Future” project\, and a few historic works as well. \nThere are more incredible murals outside the scope of our route length that are well worth seeing. More information about local murals will be available in an upcoming newsletter\, stay tuned! \nAs always\, come prepared for southeast Georgia weather. Wear your sturdy walking shoes and a hat\, and don’t forget to bring water and sunscreen for this outdoor excursion. We will set off from the Wick 3.0 (501 Gloucester St.) on Tuesday\, March 11th at 9:30 AM for this fun and informative activity! \n  \n 
URL:https://bikewalkgoldenisles.org/event/walk-with-a-muralist/
LOCATION:Wick 3.0\, 501 Gloucester St\, Brunswick\, GA\, 31520
CATEGORIES:Social Event,Tour,Walk,Walking,Walking Event
END:VEVENT
BEGIN:VEVENT
DTSTART;TZID=America/New_York:20250315T090000
DTEND;TZID=America/New_York:20250315T090000
DTSTAMP:20260424T193956
CREATED:20250305T151126Z
LAST-MODIFIED:20250312T140317Z
UID:3601-1742029200-1742029200@bikewalkgoldenisles.org
SUMMARY:Silver Bluff Brewing Saint Patricks Day 5k
DESCRIPTION:Join us for the fourth annual Silver Bluff Brewing St. Patricks Day 5k! \nRaceday: March 15th\, 2025 \nThere will be Live Music and Food all day long! \nCome dressed in your most festive St. Patricks Day attire! Prizes will be given to the 2 BEST DRESSED runners! \nAge group and Overall Awards will be handed out. \n5k course will take runners through historic Brunswick.  It is flat and fast so be ready to set a personal best! \nRace Packets can be picked up FRIDAY 3/14 FROM 5PM-7PM. at Silver Bluff. \nPacket Pick up on race day will start at 9am and close at 10:15am. \nSchedule of Events  \n10:30am- 5k Start \n11:45am – 5k awards \n12:15pm- 3:00pm – Irish Punk Band “Blood Sweat and Whisky” live in the beer garden \n1:30pm Mile \n4-7p – “Hot banana Coffee” live in the beer garden \n**Food Trucks will start serving at 11am!
URL:https://bikewalkgoldenisles.org/event/silver-bluff-brewing-saint-patricks-day-5k-beer-mile/
LOCATION:Silver Bluff Brewing Company\, 1325 Newcastle Street\, Brunswick\, GA\, 31520\, United States
CATEGORIES:Race,Run,Social Event
END:VEVENT
BEGIN:VEVENT
DTSTART;TZID=America/New_York:20250318T103000
DTEND;TZID=America/New_York:20250318T103000
DTSTAMP:20260424T193956
CREATED:20250310T143659Z
LAST-MODIFIED:20250310T143659Z
UID:3632-1742293800-1742293800@bikewalkgoldenisles.org
SUMMARY:Brunswick Library — BWK Walking Club - Brunswick
DESCRIPTION:Meets every Tuesday at 10:30 AM at the Gloucester entrance of the Brunswick Library for a 1 mile leisurely walk to Hanover Square and back. In the case of inclement weather at 9:30 AM\, the class will be canceled for the day.
URL:https://bikewalkgoldenisles.org/event/brunswick-library-bwk-walking-club-brunswick/
LOCATION:Marshes of Glynn Libraries\, 208 Gloucester St\, Brunswick\, GA\, 31520\, United States
CATEGORIES:Social Event,Walking,Walking Event
ORGANIZER;CN="Marshesof Glynn Libraries":MAILTO:dgraham@glynncounty-ga.gov
END:VEVENT
BEGIN:VEVENT
DTSTART;TZID=America/New_York:20250322T080000
DTEND;TZID=America/New_York:20250322T080000
DTSTAMP:20260424T193956
CREATED:20250305T152355Z
LAST-MODIFIED:20250305T152355Z
UID:3608-1742630400-1742630400@bikewalkgoldenisles.org
SUMMARY:Camden Cycling Club Amelia Island Saturday Morning Ride
DESCRIPTION:Camden Cycling Club will be riding the Amelia Island Trail beginning at the Harris Teeter parking lot followed by lunch on Amelia Island. More details to follow in the coming weeks.
URL:https://bikewalkgoldenisles.org/event/camden-cycling-club-amelia-island-saturday-morning-ride/
LOCATION:Harris Teeter\, 4800 1st Coast Hwy\, Fernandina Beach\, FL\, 32034
CATEGORIES:Ride,Social Event,Trail Event
END:VEVENT
BEGIN:VEVENT
DTSTART;TZID=America/New_York:20250325T103000
DTEND;TZID=America/New_York:20250325T103000
DTSTAMP:20260424T193956
CREATED:20250310T143802Z
LAST-MODIFIED:20250310T143802Z
UID:3634-1742898600-1742898600@bikewalkgoldenisles.org
SUMMARY:Brunswick Library — BWK Walking Club - Brunswick
DESCRIPTION:Meets every Tuesday at 10:30 AM at the Gloucester entrance of the Brunswick Library for a 1 mile leisurely walk to Hanover Square and back. In the case of inclement weather at 9:30 AM\, the class will be canceled for the day.
URL:https://bikewalkgoldenisles.org/event/brunswick-library-bwk-walking-club-brunswick-2/
LOCATION:Marshes of Glynn Libraries\, 208 Gloucester St\, Brunswick\, GA\, 31520\, United States
CATEGORIES:Social Event,Walk,Walking,Walking Event
ORGANIZER;CN="Marshesof Glynn Libraries":MAILTO:dgraham@glynncounty-ga.gov
END:VEVENT
BEGIN:VEVENT
DTSTART;TZID=America/New_York:20250329T090000
DTEND;TZID=America/New_York:20250329T090000
DTSTAMP:20260424T193956
CREATED:20250305T164342Z
LAST-MODIFIED:20250305T164342Z
UID:3611-1743238800-1743238800@bikewalkgoldenisles.org
SUMMARY:SEGA-SORBA Marsh Madness
DESCRIPTION:SEGA SORBA is the South East Georgia chapter of the Southern Off-Road Bicycle (SORBA)\, part of the International Mountain Bicycling Association (IMBA). SEGA-SORBA is a volunteer non-profit 501(c)(3) organization formed to promote great off-road bike trails in South East Georgia.
URL:https://bikewalkgoldenisles.org/event/sega-sorba-marsh-madness/
LOCATION:Skidaway Island\, Skidaway Island\, 30 Ocean Drive\, GA\, 31411\, United States
CATEGORIES:Fundraiser,Ride,Social Event
END:VEVENT
BEGIN:VEVENT
DTSTART;TZID=America/New_York:20250330T100000
DTEND;TZID=America/New_York:20250330T140000
DTSTAMP:20260424T193956
CREATED:20250305T193125Z
LAST-MODIFIED:20250312T135927Z
UID:3614-1743328800-1743343200@bikewalkgoldenisles.org
SUMMARY:W.I.N. CommUNITY Day
DESCRIPTION:March 30\, 2025 from 10:00 am – 2:00 at Perry Park in Brunswick\, GA. \nW.I.N. Community Outreach Family Fun Day promises to be an exciting gathering\, bringing together local residents to receive support and connect with others in a fun and welcoming environment.  \nThis event is entirely FREE
URL:https://bikewalkgoldenisles.org/event/w-i-n-community-day/
LOCATION:Perry Park\, 601 Gloucester St\, Brunswick\, GA\, 31520
CATEGORIES:Outreach,Party,Social Event
ORGANIZER;CN="W.I.N.":MAILTO:sskewe@yahoo.com
END:VEVENT
BEGIN:VEVENT
DTSTART;TZID=America/New_York:20250331T103000
DTEND;TZID=America/New_York:20250331T103000
DTSTAMP:20260424T193956
CREATED:20250306T194335Z
LAST-MODIFIED:20250319T211411Z
UID:3623-1743417000-1743417000@bikewalkgoldenisles.org
SUMMARY:BWGI and St. Marys Public Library Bike Rodeo
DESCRIPTION:Join us in Camden County at the Saint Marys Public Library for a FREE community biking event over Spring Break! \nWHAT: Bike Rodeo March 31st @ 10:30 AM \nWHERE: Saint Marys Public Library: 100 Herb Bauer Drive\, St. Marys\, GA 31558 \nWHO: Elementary and Middle School students on Spring Break\nRiders learn about bicycling safety and biking best practices\, and navigate through a variety of bike courses to increase rider confidence\, safety knowledge\, and handling skills. \n\nBring your own bike and helmet\nBWGI will provide helmets and bike lights for those who need it (children through adult sizing)\n\nMore details to come! \n  \nThis event is made possible through the partnership of St. Marys Public Library\, Camden Cycling Club\, and Go Georgia.
URL:https://bikewalkgoldenisles.org/event/st-marys-public-library-bike-rodeo/
LOCATION:St. Marys Public Library\, 100 Herb Bauer Dr\, Saint Marys\, GA\, 31558
CATEGORIES:Class,Education Program,Outreach,Ride,Social Event,Special Event,Volunteer Opportunity
END:VEVENT
END:VCALENDAR