BEGIN:VCALENDAR
VERSION:2.0
PRODID:-//Bike Walk Golden Isles - ECPv6.13.2.1//NONSGML v1.0//EN
CALSCALE:GREGORIAN
METHOD:PUBLISH
X-ORIGINAL-URL:https://bikewalkgoldenisles.org
X-WR-CALDESC:Events for Bike Walk Golden Isles
REFRESH-INTERVAL;VALUE=DURATION:PT1H
X-Robots-Tag:noindex
X-PUBLISHED-TTL:PT1H
BEGIN:VTIMEZONE
TZID:America/New_York
BEGIN:DAYLIGHT
TZOFFSETFROM:-0500
TZOFFSETTO:-0400
TZNAME:EDT
DTSTART:20250309T070000
END:DAYLIGHT
BEGIN:STANDARD
TZOFFSETFROM:-0400
TZOFFSETTO:-0500
TZNAME:EST
DTSTART:20251102T060000
END:STANDARD
END:VTIMEZONE
BEGIN:VEVENT
DTSTART;TZID=America/New_York:20250322T080000
DTEND;TZID=America/New_York:20250322T080000
DTSTAMP:20260425T070950
CREATED:20250305T152355Z
LAST-MODIFIED:20250305T152355Z
UID:3608-1742630400-1742630400@bikewalkgoldenisles.org
SUMMARY:Camden Cycling Club Amelia Island Saturday Morning Ride
DESCRIPTION:Camden Cycling Club will be riding the Amelia Island Trail beginning at the Harris Teeter parking lot followed by lunch on Amelia Island. More details to follow in the coming weeks.
URL:https://bikewalkgoldenisles.org/event/camden-cycling-club-amelia-island-saturday-morning-ride/
LOCATION:Harris Teeter\, 4800 1st Coast Hwy\, Fernandina Beach\, FL\, 32034
CATEGORIES:Ride,Social Event,Trail Event
END:VEVENT
END:VCALENDAR