BEGIN:VCALENDAR
VERSION:2.0
PRODID:-//Bike Walk Golden Isles - ECPv6.13.2.1//NONSGML v1.0//EN
CALSCALE:GREGORIAN
METHOD:PUBLISH
X-WR-CALNAME:Bike Walk Golden Isles
X-ORIGINAL-URL:https://bikewalkgoldenisles.org
X-WR-CALDESC:Events for Bike Walk Golden Isles
REFRESH-INTERVAL;VALUE=DURATION:PT1H
X-Robots-Tag:noindex
X-PUBLISHED-TTL:PT1H
BEGIN:VTIMEZONE
TZID:America/New_York
BEGIN:DAYLIGHT
TZOFFSETFROM:-0500
TZOFFSETTO:-0400
TZNAME:EDT
DTSTART:20240310T070000
END:DAYLIGHT
BEGIN:STANDARD
TZOFFSETFROM:-0400
TZOFFSETTO:-0500
TZNAME:EST
DTSTART:20241103T060000
END:STANDARD
END:VTIMEZONE
BEGIN:VEVENT
DTSTART;VALUE=DATE:20240915
DTEND;VALUE=DATE:20240916
DTSTAMP:20260425T184736
CREATED:20240723T165807Z
LAST-MODIFIED:20240723T165807Z
UID:2905-1726358400-1726444799@bikewalkgoldenisles.org
SUMMARY:Endless Summer Watermelon Ride
DESCRIPTION:The North Florida Bicycle Club and Major Taylor Cycling Club of North Florida bring you the 35th Endless Summer Watermelon Ride. \nThis event is designed for all road cyclists! \nClick here to learn more and register.
URL:https://bikewalkgoldenisles.org/event/endless-summer-watermelon-ride/
LOCATION:Atlantic Recreation Center\, 2500 Atlantic Ave\, Fernandina Beach\, FL\, 32034\, United States
CATEGORIES:Ride
ATTACH;FMTTYPE=image/png:https://bikewalkgoldenisles.org/wp-content/uploads/2024/07/2024-09-15-endless-summer-watermelon-ride-amelia-island.png
END:VEVENT
END:VCALENDAR