BEGIN:VCALENDAR
VERSION:2.0
PRODID:-//Bike Walk Golden Isles - ECPv6.13.2.1//NONSGML v1.0//EN
CALSCALE:GREGORIAN
METHOD:PUBLISH
X-ORIGINAL-URL:https://bikewalkgoldenisles.org
X-WR-CALDESC:Events for Bike Walk Golden Isles
REFRESH-INTERVAL;VALUE=DURATION:PT1H
X-Robots-Tag:noindex
X-PUBLISHED-TTL:PT1H
BEGIN:VTIMEZONE
TZID:America/New_York
BEGIN:DAYLIGHT
TZOFFSETFROM:-0500
TZOFFSETTO:-0400
TZNAME:EDT
DTSTART:20240310T070000
END:DAYLIGHT
BEGIN:STANDARD
TZOFFSETFROM:-0400
TZOFFSETTO:-0500
TZNAME:EST
DTSTART:20241103T060000
END:STANDARD
END:VTIMEZONE
BEGIN:VEVENT
DTSTART;TZID=America/New_York:20241103T080000
DTEND;TZID=America/New_York:20241103T170000
DTSTAMP:20260425T112255
CREATED:20240723T163739Z
LAST-MODIFIED:20240723T163739Z
UID:2897-1730620800-1730653200@bikewalkgoldenisles.org
SUMMARY:Bike Bluffton
DESCRIPTION:2024 Registration is NOW OPEN!\nJoin us for the 3rd Annual cycling fundraiser\, Bike Bluffton\, on Sunday\, November 3\, 2024 in historic Bluffton — the heart of the Lowcountry! We are pleased to welcome avid cyclists and beginners in one of FIVE route options. Choose from a 62-mile\, 30-mile\, 20-mile\, 10-mile or 2-mile family fun ride.  \nTake advantage of early bird pricing of $75 per rider until August 30.\nYour registration includes your ride\, donation to the Boys & Girls Club of Bluffton\, commemorative 2024 T-Shirt\, rest drop snacks & drinks\, and free lunch after your ride!  \nWant to make an even greater impact? Choose the Pedal-4-A-Kid option at $300 and ride with a Club kid on your back for even greater purpose. \nClick here to register now.\n\n\n\n\n\n\n\n\n\n\n\n 
URL:https://bikewalkgoldenisles.org/event/bike-bluffton/
LOCATION:Boys and Girls Club of Bluffton\, 100 H. E. McCracken Cir\, Bluffton\, SC\, 29910\, United States
CATEGORIES:Fundraiser,Ride
ATTACH;FMTTYPE=image/png:https://bikewalkgoldenisles.org/wp-content/uploads/2024/07/2024-11-03-bike-bluffton.png
END:VEVENT
END:VCALENDAR