BEGIN:VCALENDAR
VERSION:2.0
PRODID:-//Bike Walk Golden Isles - ECPv6.13.2.1//NONSGML v1.0//EN
CALSCALE:GREGORIAN
METHOD:PUBLISH
X-ORIGINAL-URL:https://bikewalkgoldenisles.org
X-WR-CALDESC:Events for Bike Walk Golden Isles
REFRESH-INTERVAL;VALUE=DURATION:PT1H
X-Robots-Tag:noindex
X-PUBLISHED-TTL:PT1H
BEGIN:VTIMEZONE
TZID:America/New_York
BEGIN:DAYLIGHT
TZOFFSETFROM:-0500
TZOFFSETTO:-0400
TZNAME:EDT
DTSTART:20240310T070000
END:DAYLIGHT
BEGIN:STANDARD
TZOFFSETFROM:-0400
TZOFFSETTO:-0500
TZNAME:EST
DTSTART:20241103T060000
END:STANDARD
END:VTIMEZONE
BEGIN:VEVENT
DTSTART;TZID=America/New_York:20241109T080000
DTEND;TZID=America/New_York:20241109T140000
DTSTAMP:20260425T084300
CREATED:20240910T203615Z
LAST-MODIFIED:20240910T203615Z
UID:3006-1731139200-1731160800@bikewalkgoldenisles.org
SUMMARY:Veterans Day 5K Beach Race/1 Mile Walk
DESCRIPTION:We invite you and your family to join us on November 9th\, 2024\, at 8:00 a.m. for a 5K Beach Race/ 1 Mile Walk to celebrate Veterans Day!! This race supports our veterans by raising awareness of suicide prevention and working towards ending it once and for all! \n22 Veterans commit suicide every day!!!   \nThis double-digit number has shaped how Americans think about military veterans and their daily struggles. This staggering number has become a cry for advocates trying to call attention to suicide among veterans\, especially U.S. combat-injured veterans who served in Iraq and Afghanistan. \nMany injured U.S. combat-injured veterans struggle with physical disabilities\, including loss of limbs and mental health issues such as Post-traumatic Stress Disorder (PTSD) and Traumatic Brain Injury (TBI). Fairways for Freedom® provides the opportunity for reintegration back into society through many holistic initiatives\, including the game of golf. \nThis November 9th\, Fairways for Freedom® is partnering with SSI VFW Post 4092 to host the Veterans Day 5K Beach Race/1 Mile Walk. Funds raised from this event will provide LOCAL U.S. combat-injured veterans the opportunity to heal. \n  \nREGISTRATION INFORMATION: \n\n$35 entry fee 5K Race (T-shirt\, medal and swag bag)\n$35 entry fee 1 Mile walk (T-shirt\, medal and swag bag)\n$20 for children under 12 (swag bag and participation ribbon)\n100% of entry fees and donations go directly to Fairways for Freedom®\nRegistration received before October 21st\, 2024 will be guaranteed a T-shirt.\nRegistration will close Saturday\, November 9th @ 7:45 am\n\nLOCATION: \nCoast Guard Station / East Beach\, 4100 First Street\, Saint Simons Island\, GA 31522 \n*Please note\, there may be a county project starting around this date therefore event will be moved to Massengale Park 1350 Ocean Blvd\, St Simons Island\, GA 31522. More information to follow. \n  \nRACE DAY SCHEDULE OF EVENTS: \n\n7:00 am Race Day – Registration Opens/ Packet Pick Up\n7:45 am Race Day – Registration Closes\n7:45 am Welcome Message\n7:55 am National Anthem\n8:00 am Race Start Time\n9:00 am Awards (categories announced soon)\n\nPRE-REGISTRATION PACKET PICK UP: \n\nFriday\, November 8th\, 6:00 pm to 8:00 pm Saint Simons Island Pier\, 100 Mallery St\nSaturday\, November 9th\, 7:00 am to 7:45 am Race location -registration table.\n\nVOLUNTEER for this event: (NHS hours credited) \n\nContact Tracy LaRosa at tracy.larosa@yahoo.com\n\nRACE START/FINISH LOCATION: \n\nOn the Beach\, East Beach at Coast Guard Station\n\nAFTER the RACE \nWe are excited to announce\, following the race\, a benefit will be held at Gnats Landing/ Redfern Village starting at 11:00 am ALL proceeds will be donated to Fairways for Freedom®. \nBRING THE FAMILY! \nThere will be a Classic Car show\, food\, beer\, prizes\, and more!!! \nAll Runner /Walker participants will receive a coupon for this event. \n  \nFor more information on how to become a sponsor\, contact David Ulrich  david.ulrich.ma@icloud.com \nTHANK YOU TO OUR SPONSORS \nGnats Landing \nBig Splash \nLokey Asset Management of Raymond James \nMargaret Maestas \nKing’s Colonial Ford \nThe Caddyshack  \nThe Club \nShady Beach Rentals SSI \nSaint Simons Island Cars & Classics \nVyStar Credit Union
URL:https://bikewalkgoldenisles.org/event/veterans-day-5k-beach-race-1-mile-walk/
LOCATION:4100 First St.\, 4100 First Street\, St. Simons Island\, GA\, 31522\, United States
CATEGORIES:Outreach,Race
ATTACH;FMTTYPE=image/png:https://bikewalkgoldenisles.org/wp-content/uploads/2024/09/fairways-freedom.png
ORGANIZER;CN="Fairways for Freedom":MAILTO:Fairways4Freedom@gmail.com
END:VEVENT
END:VCALENDAR