BEGIN:VCALENDAR
VERSION:2.0
PRODID:-//Bike Walk Golden Isles - ECPv6.13.2.1//NONSGML v1.0//EN
CALSCALE:GREGORIAN
METHOD:PUBLISH
X-WR-CALNAME:Bike Walk Golden Isles
X-ORIGINAL-URL:https://bikewalkgoldenisles.org
X-WR-CALDESC:Events for Bike Walk Golden Isles
REFRESH-INTERVAL;VALUE=DURATION:PT1H
X-Robots-Tag:noindex
X-PUBLISHED-TTL:PT1H
BEGIN:VTIMEZONE
TZID:America/New_York
BEGIN:DAYLIGHT
TZOFFSETFROM:-0500
TZOFFSETTO:-0400
TZNAME:EDT
DTSTART:20240310T070000
END:DAYLIGHT
BEGIN:STANDARD
TZOFFSETFROM:-0400
TZOFFSETTO:-0500
TZNAME:EST
DTSTART:20241103T060000
END:STANDARD
END:VTIMEZONE
BEGIN:VEVENT
DTSTART;TZID=America/New_York:20240714T080000
DTEND;TZID=America/New_York:20240714T170000
DTSTAMP:20260425T173222
CREATED:20240611T175043Z
LAST-MODIFIED:20240611T175043Z
UID:2800-1720944000-1720976400@bikewalkgoldenisles.org
SUMMARY:Georgia State Games Cycling Championship: Time Trial & Criterium
DESCRIPTION:The Georgia State Games\, Georgia’s Official Grassroots Olympics\, is hosting their annual Cycling Championships this July. \n \nThis championship features our Road Race on July 13th at Cass High School in White\, GA and our Criterium and Time Trial events on July 14th at West Oak Business Park in Marietta\, GA. \n \nWe would love for Bike Walk Golden Isles to come out and ride in these events and be a part of our 34-year history! This is a terrific opportunity to prove you’re the best of the best\, race against new faces\, and most importantly\, have fun!\n \nMain information:\n\n\nEarly Bird Pricing: Road race ($40)\, Criterium ($40)\, Time Trial ($20)\nAdditional $5 fee for out of state entrants\nWalk-up registration available for an increased fee\nUSA Cycling Approved\nFree Georgia Games T-Shirt for each entrant\nOlympic-style gold\, silver\, and bronze for each medalist\n\n\n\nIf interested you can REGISTER HERE\n \nIf you have any questions be sure to contact coordinator@georgiagames.org.
URL:https://bikewalkgoldenisles.org/event/georgia-state-games-cycling-championship-time-trial-criterium/
LOCATION:West Oak Business Park\, 1155 Allgood Road\, Marietta\, GA\, 30062\, United States
CATEGORIES:Race
ATTACH;FMTTYPE=image/png:https://bikewalkgoldenisles.org/wp-content/uploads/2024/06/2024-07-14-georgia-games.png
ORGANIZER;CN="Georgia State Games":MAILTO:info@georgiagames.org
END:VEVENT
END:VCALENDAR