BEGIN:VCALENDAR
VERSION:2.0
PRODID:-//Bike Walk Golden Isles - ECPv6.13.2.1//NONSGML v1.0//EN
CALSCALE:GREGORIAN
METHOD:PUBLISH
X-ORIGINAL-URL:https://bikewalkgoldenisles.org
X-WR-CALDESC:Events for Bike Walk Golden Isles
REFRESH-INTERVAL;VALUE=DURATION:PT1H
X-Robots-Tag:noindex
X-PUBLISHED-TTL:PT1H
BEGIN:VTIMEZONE
TZID:America/New_York
BEGIN:DAYLIGHT
TZOFFSETFROM:-0500
TZOFFSETTO:-0400
TZNAME:EDT
DTSTART:20230312T070000
END:DAYLIGHT
BEGIN:STANDARD
TZOFFSETFROM:-0400
TZOFFSETTO:-0500
TZNAME:EST
DTSTART:20231105T060000
END:STANDARD
BEGIN:DAYLIGHT
TZOFFSETFROM:-0500
TZOFFSETTO:-0400
TZNAME:EDT
DTSTART:20240310T070000
END:DAYLIGHT
BEGIN:STANDARD
TZOFFSETFROM:-0400
TZOFFSETTO:-0500
TZNAME:EST
DTSTART:20241103T060000
END:STANDARD
BEGIN:DAYLIGHT
TZOFFSETFROM:-0500
TZOFFSETTO:-0400
TZNAME:EDT
DTSTART:20250309T070000
END:DAYLIGHT
BEGIN:STANDARD
TZOFFSETFROM:-0400
TZOFFSETTO:-0500
TZNAME:EST
DTSTART:20251102T060000
END:STANDARD
END:VTIMEZONE
BEGIN:VEVENT
DTSTART;TZID=America/New_York:20250913T090000
DTEND;TZID=America/New_York:20250913T120000
DTSTAMP:20260423T133150
CREATED:20250825T145908Z
LAST-MODIFIED:20250825T145908Z
UID:4573-1757754000-1757764800@bikewalkgoldenisles.org
SUMMARY:SSUMP Wheel-A-Thon
DESCRIPTION:2nd Annual SSUMP\nWheel–A–Thon 2025 \nThis fundraiser is a noncompetitive\, fun bike race around the block on a designated course around St. Simons United Methodist Church! \nBike race features two heats based on age/riding-ability. \n\n1st Heat starts at 9:30 AM for children 2 years old and under\n2nd Heat starts at 10:30 AM for children 3 years old and older\n\nActivity Village is open from 9:00 to 12:00 so join us there before\, during\, or after you race! \nChildren 12 and under are invited to ride bikes\, trikes\, scooters\, and strollers to participate. \nActivity Village includes bounce houses\, face painting\, interactive experiences\, crafts\, and more! An unlimited activities wristband is available for purchase but individual activity access may be purchased day-of event. \nAttendees will be able to purchase refreshments and food with shaded seating available on a first-come\, first-served basis. \nRaffle will feature fabulous prize baskets donated by our amazing business and community partners. Raffle tickets will be available for purchase beforehand as well as during the event.
URL:https://bikewalkgoldenisles.org/event/ssump-wheel-a-thon/
LOCATION:St Simons United Methodist Church\, 624 Ocean Boulevard\, St Simons Island\, Ga\, 31522
CATEGORIES:Fundraiser,One-Time Ride,Party,Social Event,Special Event
END:VEVENT
BEGIN:VEVENT
DTSTART;TZID=America/New_York:20250831T100000
DTEND;TZID=America/New_York:20250831T140000
DTSTAMP:20260423T133150
CREATED:20250714T011457Z
LAST-MODIFIED:20250804T184417Z
UID:4474-1756634400-1756648800@bikewalkgoldenisles.org
SUMMARY:W.I.N. CommUNITY Outreach Day
DESCRIPTION:August 31\, 2025 from 10:00 am – 2:00 at Orange Square Park in Brunswick\, GA. \nW.I.N. Community Outreach Family Fun Day promises to be an exciting gathering\, bringing together local residents to receive support and connect with others in a fun and welcoming environment.  \nThis event is entirely FREE
URL:https://bikewalkgoldenisles.org/event/w-i-n-community-outreach-day/
LOCATION:Orange Square Park\, 2216 Reynolds St\, Brunswick\, GA\, 31520\, United States
CATEGORIES:Outreach,Party,Social Event
ORGANIZER;CN="W.I.N.":MAILTO:sskewe@yahoo.com
END:VEVENT
BEGIN:VEVENT
DTSTART;TZID=America/New_York:20250708T100000
DTEND;TZID=America/New_York:20250708T140000
DTSTAMP:20260423T133150
CREATED:20250608T130413Z
LAST-MODIFIED:20250608T130413Z
UID:4379-1751968800-1751983200@bikewalkgoldenisles.org
SUMMARY:FCC - Party in the Park
DESCRIPTION:From their website: “Step into a fairy tale adventure where magic\, literacy\, and wellness come together! We are making this FREE event an unforgettable experience that supports health\, wellness\, and literacy for lifelong success. \nStorybook adventures & interactive reading corners\nCharacter meet-and-greets with beloved fairy tale favorites\nOutdoor family activities & bounce houses\nFace painting\, exciting raffle prizes & giveaways\nFood trucks & nutrition education to fuel the fun. \nBut beyond the magic\, we’re helping children prepare for the upcoming school year! Through Party in the Park\, we’re providing essential school supplies\, encouraging reading literacy\, and inspiring young minds for thrilling literary adventures.” \n  \nBWGI will be onsite supporting this event with a fun activity.
URL:https://bikewalkgoldenisles.org/event/fcc-party-in-the-park/
LOCATION:Crooked River State Park\, 6222 Charlie Smith Sr Hwy\, St. Marys\, GA\, United States
CATEGORIES:Fair,Outreach,Party,Social Event,Special Event,Volunteer Opportunity
ORGANIZER;CN="Family Connection Camden":MAILTO:familyconnectioncamden.ed@gmail.com
END:VEVENT
BEGIN:VEVENT
DTSTART;TZID=America/New_York:20250330T100000
DTEND;TZID=America/New_York:20250330T140000
DTSTAMP:20260423T133150
CREATED:20250305T193125Z
LAST-MODIFIED:20250312T135927Z
UID:3614-1743328800-1743343200@bikewalkgoldenisles.org
SUMMARY:W.I.N. CommUNITY Day
DESCRIPTION:March 30\, 2025 from 10:00 am – 2:00 at Perry Park in Brunswick\, GA. \nW.I.N. Community Outreach Family Fun Day promises to be an exciting gathering\, bringing together local residents to receive support and connect with others in a fun and welcoming environment.  \nThis event is entirely FREE
URL:https://bikewalkgoldenisles.org/event/w-i-n-community-day/
LOCATION:Perry Park\, 601 Gloucester St\, Brunswick\, GA\, 31520
CATEGORIES:Outreach,Party,Social Event
ORGANIZER;CN="W.I.N.":MAILTO:sskewe@yahoo.com
END:VEVENT
BEGIN:VEVENT
DTSTART;TZID=America/New_York:20240929T100000
DTEND;TZID=America/New_York:20240929T120000
DTSTAMP:20260423T133150
CREATED:20240910T195301Z
LAST-MODIFIED:20240910T195301Z
UID:2995-1727604000-1727611200@bikewalkgoldenisles.org
SUMMARY:W.I.N. Community Outreach Sunday
DESCRIPTION:ENJOY THE FREE FAMILY-FRIENDLY ACTIVITIES: \nGAMES – CLOTHING GIVEAWAY – BOOK GIVEAWAY – BOUNCE HOUSE – MUSIC & DANCING – FREE COVID VACCINES – MEDICAL MOBILE UNIT – FREE HEALTH SCREENS – WIC & MEDICAID APPLICATION ASSISTANCE – GIFT CARD GIVEAWAY – EMPLOYMENT OPPORTUNITIES
URL:https://bikewalkgoldenisles.org/event/w-i-n-community-outreach-sunday/
LOCATION:Orange Square Park\, 2216 Reynolds St\, Brunswick\, GA\, 31520\, United States
CATEGORIES:Outreach,Party,Social Event
END:VEVENT
BEGIN:VEVENT
DTSTART;TZID=America/New_York:20240817T090000
DTEND;TZID=America/New_York:20240817T170000
DTSTAMP:20260423T133150
CREATED:20240801T152112Z
LAST-MODIFIED:20240801T152112Z
UID:2948-1723885200-1723914000@bikewalkgoldenisles.org
SUMMARY:Bike fix-it station celebration
DESCRIPTION:Join Bike Walk Golden Isles on Saturday\, Aug. 17\, at 9 a.m. to celebrate the installation of our new bike repair fix-it station at Howard Coffin Park\, Brunswick! \n \nThis incredible addition to the park was funded through a grant from Hello Goodbuy\, the Brunswick thrift shop who has returned more than $2 million to community non-profits. The City of Brunswick’s public works department installed the station. We are incredibly grateful for their support!\n  \nWe’ll hold a demonstration of how to make simple repairs\, a bike helmet giveaway/fitting\, and enjoy refreshments. Since rides are always the best way to celebrate\, we will hold a community group bike ride at 10 a.m. Bikes and helmets required for the all-paces family-friendly ride. Contact bikewalkgoldenisles@gmail.com for more information.
URL:https://bikewalkgoldenisles.org/event/bike-fix-it-station-celebration/
LOCATION:Howard Coffin Park\, 1402 Sonny Miller Way\, Brunswick\, GA\, 31520\, United States
CATEGORIES:Party
ATTACH;FMTTYPE=image/png:https://bikewalkgoldenisles.org/wp-content/uploads/2024/08/Bike-fix-it-celebration-Aug-17.png
END:VEVENT
BEGIN:VEVENT
DTSTART;TZID=America/New_York:20240716T100000
DTEND;TZID=America/New_York:20240716T170000
DTSTAMP:20260423T133150
CREATED:20240611T173055Z
LAST-MODIFIED:20240611T173055Z
UID:2791-1721124000-1721149200@bikewalkgoldenisles.org
SUMMARY:Party in the Park Health and Wellness Resource Fair
DESCRIPTION:From the event Facebook page:\n\nAs the sun shines brighter\, let’s focus on our well-being! Join Us for our FREE annual Party in the Park Health and Wellness Fair—a day of fun\, health\, fitness\, and community connection. Here are the details:\nThis year’s event promises to be extraordinary\, with over 40 service providers offering resources related to health and wellness\, showcasing how vital maintaining one’s health is and showing the importance of taking advantage of the free resources provided for our community. Here’s what you can expect:\n\n*Community Collaboration: Our fair provides a platform for community partners to collaborate\, bridging gaps in services and improving the lives of families and children.\n*Free Health Screenings: Take advantage of free health screenings to monitor your well-being.\n*Delicious and Healthy Food Trucks: Enjoy tasty and nutritious options from food trucks.\n*Fitness Challenges: Test and improve your strength with exciting fitness challenges.\n*Healthy Cooking Demos: Get inspired by cooking demos that promote wholesome meals.\n*Bounce Houses: Fun for all ages!\n*Kids’ Activities: Little superheroes can engage in activities and receive supplies for the upcoming school year.\n*Volunteer Opportunities: Use your powers for good!\n*Join our team of volunteers for the Superhero-Themed Health & Wellness Resource Fair. Contact April Jeans at familyconnectioncamden.ed@gmail.com to sign up.\n\n*Join us for an action-packed day where we distribute Hero Packs—book bags filled with all the school supplies a young scholar needs to conquer the academic year!
URL:https://bikewalkgoldenisles.org/event/party-in-the-park-health-and-wellness-resource-fair/
LOCATION:Crooked River State Park\, 6222 Charlie Smith Sr Hwy\, St. Marys\, GA\, United States
CATEGORIES:Party
ATTACH;FMTTYPE=image/jpeg:https://bikewalkgoldenisles.org/wp-content/uploads/2024/06/2024-07-16-party-crooked-river.jpeg
ORGANIZER;CN="Family Connection Camden":MAILTO:familyconnectioncamden.ed@gmail.com
END:VEVENT
BEGIN:VEVENT
DTSTART;TZID=America/New_York:20240511T130000
DTEND;TZID=America/New_York:20240511T190000
DTSTAMP:20260423T133150
CREATED:20240508T144535Z
LAST-MODIFIED:20240508T144535Z
UID:2726-1715432400-1715454000@bikewalkgoldenisles.org
SUMMARY:86th Annual Blessing of the Fleet
DESCRIPTION:From discoverbrunswick.com: \nThis one-day celebration is held on the Saturday before Mother’s Day in May. One of the best events that Coastal Georgia has to offer\, we proudly offer a taste of fresh seafood\, local culture\, boating\, water sports\, the shrimping industry\, arts\, crafts and variety of leisure activities. The festival will feature fun and games for the kids\, fabulous food\, music\, great family entertainment\, and a variety of artists and displays. \nFor more information\, visit brunswickblessing.com.
URL:https://bikewalkgoldenisles.org/event/86th-annual-blessing-of-the-fleet/
LOCATION:Mary Ross Waterfront Park\, 10 F St\, Brunswick\, GA\, 31520\, United States
CATEGORIES:Party,Social Event,Special Event
ATTACH;FMTTYPE=image/png:https://bikewalkgoldenisles.org/wp-content/uploads/2024/05/2024-05-11-fleet-blessing.png
END:VEVENT
BEGIN:VEVENT
DTSTART;TZID=America/New_York:20231018T170000
DTEND;TZID=America/New_York:20231018T200000
DTSTAMP:20260423T133150
CREATED:20230924T211637Z
LAST-MODIFIED:20231016T234626Z
UID:2177-1697648400-1697659200@bikewalkgoldenisles.org
SUMMARY:BWGI Fall Ride and Birthday Membership Celebration
DESCRIPTION:Join us at Gloucester and Reynolds Streets in downtown Brunswick with your bicycle and helmet at 5:00 pm on Wednesday\, October 18. We’ll head out on a family-friendly bicycle ride at 5:30 through downtown and the historic areas of Brunswick. \nThen\, at 6:30 p.m.\, join us back at the Wick 3.0 (501 Gloucester Street) for refreshments and a brief membership meeting and presentation showcasing Bike Walk Golden Isles’ success and plans for the future. We will provide secure indoor bike parking \nThe ride is completely free\, but registration is requested so we know how many to expect. Helmets are mandatory\, and bike lights are advised\, especially with the darkening fall skies. Register here. \nIn case of rain\, we will cancel the ride\, but please join us at 6:30 p.m. at the Wick 3.0 to celebrate BWGI’s birthday! Email bikewalkgoldenisles@gmail.com for more information. 
URL:https://bikewalkgoldenisles.org/event/bwgi-fall-ride-and-birthday-membership-celebration/
LOCATION:Wick 3.0\, 501 Gloucester St\, Brunswick\, GA\, 31520
CATEGORIES:One-Time Ride,Party,Social Event
ATTACH;FMTTYPE=image/png:https://bikewalkgoldenisles.org/wp-content/uploads/2023/10/2023-10-18-bwgi-birthday-party.png
END:VEVENT
END:VCALENDAR