BEGIN:VCALENDAR
VERSION:2.0
PRODID:-//Bike Walk Golden Isles - ECPv6.13.2.1//NONSGML v1.0//EN
CALSCALE:GREGORIAN
METHOD:PUBLISH
X-ORIGINAL-URL:https://bikewalkgoldenisles.org
X-WR-CALDESC:Events for Bike Walk Golden Isles
REFRESH-INTERVAL;VALUE=DURATION:PT1H
X-Robots-Tag:noindex
X-PUBLISHED-TTL:PT1H
BEGIN:VTIMEZONE
TZID:America/New_York
BEGIN:DAYLIGHT
TZOFFSETFROM:-0500
TZOFFSETTO:-0400
TZNAME:EDT
DTSTART:20240310T070000
END:DAYLIGHT
BEGIN:STANDARD
TZOFFSETFROM:-0400
TZOFFSETTO:-0500
TZNAME:EST
DTSTART:20241103T060000
END:STANDARD
END:VTIMEZONE
BEGIN:VEVENT
DTSTART;TZID=America/New_York:20241009T110000
DTEND;TZID=America/New_York:20241009T140000
DTSTAMP:20260423T161043
CREATED:20240910T201846Z
LAST-MODIFIED:20240910T201846Z
UID:3002-1728471600-1728482400@bikewalkgoldenisles.org
SUMMARY:Health and Wellness Community Resource Fair
DESCRIPTION:We are excited to invite you to the Health and Wellness Community Resource Fair hosted by the City of Brunswick Recreation and Parks Department. This event promises to be an enriching experience\, offering valuable resources and connections for individuals and families alike. \n  \nEvent Details: \n\nDate: October 9th\nTime: 11 AM – 2 PM\nLocation: Howard Coffin Park (Indoor\, Wheelchair Accessible)\nCost: Free!\n\n\nWhy Attend? \n\nDiscover Local Resources: Meet representatives from local businesses and organizations\, including Glynn Environmental Coalition\, Georgia Center of the Deaf and Hard of Hearing\, New Beginnings Mental Health and Wellness\, and many more.\nExplore the Safe Seafood Exhibit: Gain valuable insights and access to resources such as amplified phones\, captioned phones\, hands-free phones\, and more.\nEnjoy Giveaways and Samples: Take home informative materials\, product samples\, and promotional items.\n\nHow to Help Us Prepare: To ensure we provide the best experience for all attendees and vendors\, please take a moment to register in advance. This helps us gauge attendance and prepare accordingly. \nClick here for the event’s official Facebook page. \nRegister here.
URL:https://bikewalkgoldenisles.org/event/health-and-wellness-community-resource-fair/
LOCATION:Howard Coffin Park\, 1402 Sonny Miller Way\, Brunswick\, GA\, 31520\, United States
CATEGORIES:Conference,Fair,Meeting,Social Event,Special Event
ATTACH;FMTTYPE=image/jpeg:https://bikewalkgoldenisles.org/wp-content/uploads/2024/09/brunswick-parks-rec.jpg
END:VEVENT
END:VCALENDAR