BEGIN:VCALENDAR
VERSION:2.0
PRODID:-//Bike Walk Golden Isles - ECPv6.13.2.1//NONSGML v1.0//EN
CALSCALE:GREGORIAN
METHOD:PUBLISH
X-WR-CALNAME:Bike Walk Golden Isles
X-ORIGINAL-URL:https://bikewalkgoldenisles.org
X-WR-CALDESC:Events for Bike Walk Golden Isles
REFRESH-INTERVAL;VALUE=DURATION:PT1H
X-Robots-Tag:noindex
X-PUBLISHED-TTL:PT1H
BEGIN:VTIMEZONE
TZID:America/New_York
BEGIN:DAYLIGHT
TZOFFSETFROM:-0500
TZOFFSETTO:-0400
TZNAME:EDT
DTSTART:20240310T070000
END:DAYLIGHT
BEGIN:STANDARD
TZOFFSETFROM:-0400
TZOFFSETTO:-0500
TZNAME:EST
DTSTART:20241103T060000
END:STANDARD
BEGIN:DAYLIGHT
TZOFFSETFROM:-0500
TZOFFSETTO:-0400
TZNAME:EDT
DTSTART:20250309T070000
END:DAYLIGHT
BEGIN:STANDARD
TZOFFSETFROM:-0400
TZOFFSETTO:-0500
TZNAME:EST
DTSTART:20251102T060000
END:STANDARD
END:VTIMEZONE
BEGIN:VEVENT
DTSTART;TZID=America/New_York:20250331T103000
DTEND;TZID=America/New_York:20250331T103000
DTSTAMP:20260423T160836
CREATED:20250306T194335Z
LAST-MODIFIED:20250319T211411Z
UID:3623-1743417000-1743417000@bikewalkgoldenisles.org
SUMMARY:BWGI and St. Marys Public Library Bike Rodeo
DESCRIPTION:Join us in Camden County at the Saint Marys Public Library for a FREE community biking event over Spring Break! \nWHAT: Bike Rodeo March 31st @ 10:30 AM \nWHERE: Saint Marys Public Library: 100 Herb Bauer Drive\, St. Marys\, GA 31558 \nWHO: Elementary and Middle School students on Spring Break\nRiders learn about bicycling safety and biking best practices\, and navigate through a variety of bike courses to increase rider confidence\, safety knowledge\, and handling skills. \n\nBring your own bike and helmet\nBWGI will provide helmets and bike lights for those who need it (children through adult sizing)\n\nMore details to come! \n  \nThis event is made possible through the partnership of St. Marys Public Library\, Camden Cycling Club\, and Go Georgia.
URL:https://bikewalkgoldenisles.org/event/st-marys-public-library-bike-rodeo/
LOCATION:St. Marys Public Library\, 100 Herb Bauer Dr\, Saint Marys\, GA\, 31558
CATEGORIES:Class,Education Program,Outreach,Ride,Social Event,Special Event,Volunteer Opportunity
END:VEVENT
BEGIN:VEVENT
DTSTART;TZID=America/New_York:20241003T130000
DTEND;TZID=America/New_York:20241005T120000
DTSTAMP:20260423T160836
CREATED:20230731T164957Z
LAST-MODIFIED:20240723T171439Z
UID:2139-1727960400-1728129600@bikewalkgoldenisles.org
SUMMARY:2024 Georgia Bike-Walk-Live Summit
DESCRIPTION:Georgia Bikes will hold the 2024 Georgia Bike-Walk-Live Summit at The Courtyard Decatur in downtown Atlanta from October 3-5. Ticket are $80\, plus fees. The event will feature interactive workshops and informative presentations. Please click here for more info.
URL:https://bikewalkgoldenisles.org/event/2023-georgia-bike-walk-live-summit/
LOCATION:Courtyard Atlanta Decatur Downtown/Emory\, 130 Clairemont Avenue\, Decatur\, GA\, 30030\, United States
CATEGORIES:Class,Fundraiser,Social Event
ATTACH;FMTTYPE=image/jpeg:https://bikewalkgoldenisles.org/wp-content/uploads/2023/07/2024-10-03-ga-bike-walk-live-summit.jpeg
END:VEVENT
BEGIN:VEVENT
DTSTART;TZID=America/New_York:20240504T080000
DTEND;TZID=America/New_York:20240504T100000
DTSTAMP:20260423T160836
CREATED:20240422T165911Z
LAST-MODIFIED:20240422T165911Z
UID:2667-1714809600-1714816800@bikewalkgoldenisles.org
SUMMARY:Smart Cycling Class
DESCRIPTION:Do you know all you need to know to safely ride a bike with traffic? Do you feel you know enough to teach your children how to ride cautiously and conspicuously while on their own? When you drive your car\, are you confident on how to share the road with people on bikes? \nThe Smart Cycling program gives you the tips\, tools\, and techniques to confidently answer YES to each question. This class is taught by League of American Bicyclists certified instructors and is presented by Georgia Bikes in partnership with Bike Walk Golden Isles. \nThe class will be held at 41514 Richmond St. in downtown Brunswick (the parking lot directly behind the Wick 3.0\, 501 Gloucester St.). Minors must be accompanied by a parent or guardian\, who is also registered for the class. \nParticipants should complete the online portion of the class before attending the on-bike drills session. Take the (free!) Smart Cycling Class here. \nIn case of poor weather\, this class will be held inside the Wick 3.0\, 501 Gloucester St.\, Brunswick (without bikes). \nClick here to register.
URL:https://bikewalkgoldenisles.org/event/smart-cycling-class/
LOCATION:Wick-adjacent Parking Lot\, 41514 Richmond St\, Brunswick\, GA\, 31525\, United States
CATEGORIES:Class
ATTACH;FMTTYPE=image/jpeg:https://bikewalkgoldenisles.org/wp-content/uploads/2024/04/2024-05-04-bike-month.jpg
END:VEVENT
BEGIN:VEVENT
DTSTART;TZID=America/New_York:20240503T093000
DTEND;TZID=America/New_York:20240503T153000
DTSTAMP:20260423T160836
CREATED:20240410T164530Z
LAST-MODIFIED:20240410T164530Z
UID:2633-1714728600-1714750200@bikewalkgoldenisles.org
SUMMARY:Law Enforcement Bicycle Safety Workshop
DESCRIPTION:Join Georgia Bikes and Bike Walk Golden Isles for a Brunswick-area Law Enforcement Bicycle Safety Workshop on Friday\, May 3. \nThe course covers the best practices for law enforcement officers to educate bicyclists\, pedestrians\, and drivers on the safe use of roadways. Also included is a review of O.C.G.A. sections pertinent to bicycles and pedestrians\, an examination of bicycle and pedestrian facility types\, an update on trends in bicycling in Georgia\, information on crash reporting\, an analysis of bicycle and pedestrian crash data\, and strategies for improving pedestrian safety. Attendance is worth two hours of POST credit for participating police officers and is open to all law enforcement officials in Georgia. \nThere are two presentations\, 9:30 a.m. and 1:30 p.m.\, and will be held at the Wick 3.0\, 501 Gloucester St.\, Brunswick. \nThis course is offered by Georgia Bikes and Bike Walk Golden Isles and is supported by funding from the Georgia Governor’s Office of Highway Safety. \nFor questions\, contact Justin Bristol at justin@georgiabikes.org. \nClick here to register for the event.
URL:https://bikewalkgoldenisles.org/event/law-enforcement-bicycle-safety-workshop/
LOCATION:Wick 3.0\, 501 Gloucester St\, Brunswick\, GA\, 31520
CATEGORIES:Class
ATTACH;FMTTYPE=image/png:https://bikewalkgoldenisles.org/wp-content/uploads/2021/03/Screen-Shot-2021-03-22-at-6.13.23-PM.png
END:VEVENT
END:VCALENDAR